BEGIN:VCALENDAR
VERSION:2.0
PRODID:-//Ajuntament de Mont-roig del Camp - ECPv5.16.3.1//NONSGML v1.0//EN
CALSCALE:GREGORIAN
METHOD:PUBLISH
X-WR-CALNAME:Ajuntament de Mont-roig del Camp
X-ORIGINAL-URL:https://mont-roig.cat
X-WR-CALDESC:Esdeveniments per Ajuntament de Mont-roig del Camp
BEGIN:VTIMEZONE
TZID:Europe/Madrid
BEGIN:DAYLIGHT
TZOFFSETFROM:+0100
TZOFFSETTO:+0200
TZNAME:CEST
DTSTART:20260329T010000
END:DAYLIGHT
BEGIN:STANDARD
TZOFFSETFROM:+0200
TZOFFSETTO:+0100
TZNAME:CET
DTSTART:20261025T010000
END:STANDARD
END:VTIMEZONE
BEGIN:VEVENT
DTSTART;VALUE=DATE:20260314
DTEND;VALUE=DATE:20260316
DTSTAMP:20260419T151155
CREATED:20260114T123319Z
LAST-MODIFIED:20260114T130108Z
UID:88120-1773446400-1773619199@mont-roig.cat
SUMMARY:4 Termes
DESCRIPTION:Mont-roig del Camp \nDissabte 14 de març \n\nUltra Trail 54 km – Campionat de Catalunya d’Ultraresistència\nTrail 27 km – Copa d’Espanya Curses de Muntanya\n\nDiumenge 15 de març \n\nExpress 14 km – Copa d’Espanya Curses de Muntanya\nExpress Plus 17 km – Copa d’Espanya Curses de Muntanya\nCadets 10\,5 km – Copa d’Espanya Curses de Muntanya\nCaminada 14 km\n\nOrganitza: C.E L’Areny i Escola d’Atletisme Mont-roig
URL:https://mont-roig.cat/acte/4-termes/
LOCATION:Poliesportiu de Mont-roig del Camp\, Carrer Aureli Maria Escarré\, 3\, Mont-roig del Camp\, Tarragona\, 43300\, Spain
CATEGORIES:Ajuntament,Esports
ATTACH;FMTTYPE=image/jpeg:https://mont-roig.cat/wp-content/uploads/CARTELL-CURSA-4-TERMES-2026.jpg
GEO:41.0865513;0.9606138
X-APPLE-STRUCTURED-LOCATION;VALUE=URI;X-ADDRESS=Poliesportiu de Mont-roig del Camp Carrer Aureli Maria Escarré 3 Mont-roig del Camp Tarragona 43300 Spain;X-APPLE-RADIUS=500;X-TITLE=Carrer Aureli Maria Escarré\, 3:geo:0.9606138,41.0865513
END:VEVENT
END:VCALENDAR