BEGIN:VCALENDAR
VERSION:2.0
PRODID:-//Ajuntament de Mont-roig del Camp - ECPv5.16.3.1//NONSGML v1.0//EN
CALSCALE:GREGORIAN
METHOD:PUBLISH
X-WR-CALNAME:Ajuntament de Mont-roig del Camp
X-ORIGINAL-URL:https://mont-roig.cat
X-WR-CALDESC:Esdeveniments per Ajuntament de Mont-roig del Camp
BEGIN:VTIMEZONE
TZID:Europe/Madrid
BEGIN:DAYLIGHT
TZOFFSETFROM:+0100
TZOFFSETTO:+0200
TZNAME:CEST
DTSTART:20260329T010000
END:DAYLIGHT
BEGIN:STANDARD
TZOFFSETFROM:+0200
TZOFFSETTO:+0100
TZNAME:CET
DTSTART:20261025T010000
END:STANDARD
END:VTIMEZONE
BEGIN:VEVENT
DTSTART;TZID=Europe/Madrid:20260514T190000
DTEND;TZID=Europe/Madrid:20260514T190000
DTSTAMP:20260420T154353
CREATED:20260311T114832Z
LAST-MODIFIED:20260420T114133Z
UID:90057-1778785200-1778785200@mont-roig.cat
SUMMARY:Pressió Estètica: Com acompanyar sense fer mal
DESCRIPTION:Mont-roig del Camp i Miami Platja \n\nEines per entendre la pressió estètica en infants i adolescents i l’impacte de cànons i xarxes en l’autoestima\, amb estratègies per fomentar mirada crítica i una relació sana amb el cos. \n\nOnline\nPer famílies i professionals de preadolescents\, adolescents i joves\nGratuït\nInscripcions: joventut@mont-roig.cat
URL:https://mont-roig.cat/acte/90057/
LOCATION:Online
CATEGORIES:Ajuntament,Joventut
ATTACH;FMTTYPE=image/png:https://mont-roig.cat/wp-content/uploads/pressio-estetica.png
END:VEVENT
END:VCALENDAR