BEGIN:VCALENDAR
VERSION:2.0
PRODID:-//Ajuntament de Mont-roig del Camp - ECPv5.16.3.1//NONSGML v1.0//EN
CALSCALE:GREGORIAN
METHOD:PUBLISH
X-WR-CALNAME:Ajuntament de Mont-roig del Camp
X-ORIGINAL-URL:https://mont-roig.cat
X-WR-CALDESC:Esdeveniments per Ajuntament de Mont-roig del Camp
BEGIN:VTIMEZONE
TZID:Europe/Madrid
BEGIN:DAYLIGHT
TZOFFSETFROM:+0100
TZOFFSETTO:+0200
TZNAME:CEST
DTSTART:20190331T010000
END:DAYLIGHT
BEGIN:STANDARD
TZOFFSETFROM:+0200
TZOFFSETTO:+0100
TZNAME:CET
DTSTART:20191027T010000
END:STANDARD
END:VTIMEZONE
BEGIN:VEVENT
DTSTART;TZID=Europe/Madrid:20191129T190000
DTEND;TZID=Europe/Madrid:20191129T193000
DTSTAMP:20260421T080831
CREATED:20191122T093023Z
LAST-MODIFIED:20191127T111235Z
UID:40553-1575054000-1575055800@mont-roig.cat
SUMMARY:Acte d'encesa de l'arbre a Mont-roig
DESCRIPTION:Vine a l’encesa de l’arbre\, inaugura el Nadal a Mont-roig! \nDurant l’acte hi haurà l’actuació dels infants de l’Aula de Música Baptista Nogués i la Coral Sant Miquel de Mont-roig\nAl finalitzar l’acte hi haurà xocolata calenta per a tothom. \nCol·labora: Coral Sant Miquel de Mont-roig i Aula de Música Baptista Nogués.
URL:https://mont-roig.cat/acte/acte-dencesa-de-larbre-a-mont-roig/
LOCATION:Plaça Mossèn Gaietà Ivern\, Plaça Mossèn Gaietà Ivern\, Mont-roig del Camp\, Tarragona\, 43300\, Spain
CATEGORIES:Ajuntament,Impuls Econòmic i Ocupació
ATTACH;FMTTYPE=image/png:https://mont-roig.cat/wp-content/uploads/ENCESA_MONT-ROIG.png
GEO:41.0880839;0.9576999
X-APPLE-STRUCTURED-LOCATION;VALUE=URI;X-ADDRESS=Plaça Mossèn Gaietà Ivern Plaça Mossèn Gaietà Ivern Mont-roig del Camp Tarragona 43300 Spain;X-APPLE-RADIUS=500;X-TITLE=Plaça Mossèn Gaietà Ivern:geo:0.9576999,41.0880839
END:VEVENT
END:VCALENDAR