BEGIN:VCALENDAR
VERSION:2.0
PRODID:-//Ajuntament de Mont-roig del Camp - ECPv5.16.3.1//NONSGML v1.0//EN
CALSCALE:GREGORIAN
METHOD:PUBLISH
X-WR-CALNAME:Ajuntament de Mont-roig del Camp
X-ORIGINAL-URL:https://mont-roig.cat
X-WR-CALDESC:Esdeveniments per Ajuntament de Mont-roig del Camp
BEGIN:VTIMEZONE
TZID:Europe/Madrid
BEGIN:DAYLIGHT
TZOFFSETFROM:+0100
TZOFFSETTO:+0200
TZNAME:CEST
DTSTART:20180325T010000
END:DAYLIGHT
BEGIN:STANDARD
TZOFFSETFROM:+0200
TZOFFSETTO:+0100
TZNAME:CET
DTSTART:20181028T010000
END:STANDARD
END:VTIMEZONE
BEGIN:VEVENT
DTSTART;TZID=Europe/Madrid:20181201T190000
DTEND;TZID=Europe/Madrid:20181201T210000
DTSTAMP:20260423T033450
CREATED:20181123T110319Z
LAST-MODIFIED:20181123T111534Z
UID:32415-1543690800-1543698000@mont-roig.cat
SUMMARY:Acte d’encesa de l'arbre Miami Platja
DESCRIPTION:Vine a l’encesa de l’arbre. Inaugura el Nadal a Miami Platja. \n\nEncesa de l’arbre i les llums de Nadal\nActuació del Club de Rítmica de Miami Platja\nActuació del Coro Rociero Arena del Camino\nXocolata desfeta per a tothom\n\nCol·labora: Club de Rítmica de Miami Platja i Coro Rociero Arena del Camino \nPrograma Nadal 2018 Miami Platja \nPrograma Nadal 2018 Mont-roig \n 
URL:https://mont-roig.cat/acte/acte-dencesa-de-larbre/
LOCATION:Plaça Tarragona\, Plaça Tarragona\, Miami Platja
CATEGORIES:Ajuntament,Impuls Econòmic i Ocupació
ATTACH;FMTTYPE=image/jpeg:https://mont-roig.cat/wp-content/uploads/MM_ENCESA_MIAMI.jpeg
GEO:41.0097752;0.9391737
X-APPLE-STRUCTURED-LOCATION;VALUE=URI;X-ADDRESS=Plaça Tarragona Plaça Tarragona Miami Platja;X-APPLE-RADIUS=500;X-TITLE=Plaça Tarragona:geo:0.9391737,41.0097752
END:VEVENT
END:VCALENDAR