BEGIN:VCALENDAR
VERSION:2.0
PRODID:-//Ajuntament de Mont-roig del Camp - ECPv5.16.3.1//NONSGML v1.0//EN
CALSCALE:GREGORIAN
METHOD:PUBLISH
X-WR-CALNAME:Ajuntament de Mont-roig del Camp
X-ORIGINAL-URL:https://mont-roig.cat
X-WR-CALDESC:Esdeveniments per Ajuntament de Mont-roig del Camp
BEGIN:VTIMEZONE
TZID:Europe/Madrid
BEGIN:DAYLIGHT
TZOFFSETFROM:+0100
TZOFFSETTO:+0200
TZNAME:CEST
DTSTART:20180325T010000
END:DAYLIGHT
BEGIN:STANDARD
TZOFFSETFROM:+0200
TZOFFSETTO:+0100
TZNAME:CET
DTSTART:20181028T010000
END:STANDARD
END:VTIMEZONE
BEGIN:VEVENT
DTSTART;VALUE=DATE:20181215
DTEND;VALUE=DATE:20181216
DTSTAMP:20260423T070521
CREATED:20181211T112303Z
LAST-MODIFIED:20181211T112416Z
UID:32853-1544832000-1544918399@mont-roig.cat
SUMMARY:Actes de La Marató a Miami Platja
DESCRIPTION:
URL:https://mont-roig.cat/acte/actes-de-la-marato-a-miami-platja/
LOCATION:Miami Platja
CATEGORIES:Altres
ATTACH;FMTTYPE=image/jpeg:https://mont-roig.cat/wp-content/uploads/Marato-2018-1.jpg
END:VEVENT
END:VCALENDAR