BEGIN:VCALENDAR
VERSION:2.0
PRODID:-//Ajuntament de Mont-roig del Camp - ECPv5.16.3.1//NONSGML v1.0//EN
CALSCALE:GREGORIAN
METHOD:PUBLISH
X-WR-CALNAME:Ajuntament de Mont-roig del Camp
X-ORIGINAL-URL:https://mont-roig.cat
X-WR-CALDESC:Esdeveniments per Ajuntament de Mont-roig del Camp
BEGIN:VTIMEZONE
TZID:Europe/Madrid
BEGIN:DAYLIGHT
TZOFFSETFROM:+0100
TZOFFSETTO:+0200
TZNAME:CEST
DTSTART:20170326T010000
END:DAYLIGHT
BEGIN:STANDARD
TZOFFSETFROM:+0200
TZOFFSETTO:+0100
TZNAME:CET
DTSTART:20171029T010000
END:STANDARD
END:VTIMEZONE
BEGIN:VEVENT
DTSTART;TZID=Europe/Madrid:20170415T170000
DTEND;TZID=Europe/Madrid:20170415T190000
DTSTAMP:20260423T030642
CREATED:20170324T090755Z
LAST-MODIFIED:20170324T090755Z
UID:16055-1492275600-1492282800@mont-roig.cat
SUMMARY:Animació infantil
DESCRIPTION:Entraràs al passadís de la Gran Sabata i podràs jugar\, ballar i gaudir dels millors jocs\, globus de colors\, animació infantil i guerra de confeti.
URL:https://mont-roig.cat/acte/animacio-infantil-2/
LOCATION:Plaça Tarragona\, Plaça Tarragona\, Miami Platja
CATEGORIES:Ajuntament,Turisme
GEO:41.0097752;0.9391737
X-APPLE-STRUCTURED-LOCATION;VALUE=URI;X-ADDRESS=Plaça Tarragona Plaça Tarragona Miami Platja;X-APPLE-RADIUS=500;X-TITLE=Plaça Tarragona:geo:0.9391737,41.0097752
END:VEVENT
END:VCALENDAR