BEGIN:VCALENDAR
VERSION:2.0
PRODID:-//Ajuntament de Mont-roig del Camp - ECPv5.16.3.1//NONSGML v1.0//EN
CALSCALE:GREGORIAN
METHOD:PUBLISH
X-WR-CALNAME:Ajuntament de Mont-roig del Camp
X-ORIGINAL-URL:https://mont-roig.cat
X-WR-CALDESC:Esdeveniments per Ajuntament de Mont-roig del Camp
BEGIN:VTIMEZONE
TZID:Europe/Madrid
BEGIN:DAYLIGHT
TZOFFSETFROM:+0100
TZOFFSETTO:+0200
TZNAME:CEST
DTSTART:20180325T010000
END:DAYLIGHT
BEGIN:STANDARD
TZOFFSETFROM:+0200
TZOFFSETTO:+0100
TZNAME:CET
DTSTART:20181028T010000
END:STANDARD
END:VTIMEZONE
BEGIN:VEVENT
DTSTART;TZID=Europe/Madrid:20180617T200000
DTEND;TZID=Europe/Madrid:20180617T210000
DTSTAMP:20260421T022149
CREATED:20180612T123929Z
LAST-MODIFIED:20180612T123929Z
UID:28343-1529265600-1529269200@mont-roig.cat
SUMMARY:Assistència al festiva d'estiu del Club Rítmica Miami Platja
DESCRIPTION:
URL:https://mont-roig.cat/acte/assistencia-al-festiva-destiu-del-club-ritmica-miami-platja/
LOCATION:Poliesportiu de Miami Platja\, Badajoz\, 4\, Miami Platja
CATEGORIES:Alcalde
GEO:41.00588;0.92511
X-APPLE-STRUCTURED-LOCATION;VALUE=URI;X-ADDRESS=Poliesportiu de Miami Platja Badajoz 4 Miami Platja;X-APPLE-RADIUS=500;X-TITLE=Badajoz\, 4:geo:0.92511,41.00588
END:VEVENT
END:VCALENDAR