BEGIN:VCALENDAR
VERSION:2.0
PRODID:-//Ajuntament de Mont-roig del Camp - ECPv5.16.3.1//NONSGML v1.0//EN
CALSCALE:GREGORIAN
METHOD:PUBLISH
X-WR-CALNAME:Ajuntament de Mont-roig del Camp
X-ORIGINAL-URL:https://mont-roig.cat
X-WR-CALDESC:Esdeveniments per Ajuntament de Mont-roig del Camp
BEGIN:VTIMEZONE
TZID:Europe/Madrid
BEGIN:DAYLIGHT
TZOFFSETFROM:+0100
TZOFFSETTO:+0200
TZNAME:CEST
DTSTART:20190331T010000
END:DAYLIGHT
BEGIN:STANDARD
TZOFFSETFROM:+0200
TZOFFSETTO:+0100
TZNAME:CET
DTSTART:20191027T010000
END:STANDARD
END:VTIMEZONE
BEGIN:VEVENT
DTSTART;TZID=Europe/Madrid:20190301T170000
DTEND;TZID=Europe/Madrid:20190301T210000
DTSTAMP:20260422T165615
CREATED:20190221T134202Z
LAST-MODIFIED:20190227T123537Z
UID:34577-1551459600-1551474000@mont-roig.cat
SUMMARY:Campanya de donació de sang a Mont-roig
DESCRIPTION:
URL:https://mont-roig.cat/acte/campanya-de-donacio-de-sang-2/
LOCATION:Centre Rehabilitació i Fisioteràpia\, Carrer d'Aureli Escarré\, 28\, Mont-roig del Camp\, Tarragona\, 43300\, Espanya
CATEGORIES:Ajuntament,Festes
ATTACH;FMTTYPE=image/jpeg:https://mont-roig.cat/wp-content/uploads/banc-de-sang-1.jpg
GEO:41.0846593;0.9635846
X-APPLE-STRUCTURED-LOCATION;VALUE=URI;X-ADDRESS=Centre Rehabilitació i Fisioteràpia Carrer d'Aureli Escarré 28 Mont-roig del Camp Tarragona 43300 Espanya;X-APPLE-RADIUS=500;X-TITLE=Carrer d'Aureli Escarré\, 28:geo:0.9635846,41.0846593
END:VEVENT
END:VCALENDAR