BEGIN:VCALENDAR
VERSION:2.0
PRODID:-//Ajuntament de Mont-roig del Camp - ECPv5.16.3.1//NONSGML v1.0//EN
CALSCALE:GREGORIAN
METHOD:PUBLISH
X-WR-CALNAME:Ajuntament de Mont-roig del Camp
X-ORIGINAL-URL:https://mont-roig.cat
X-WR-CALDESC:Esdeveniments per Ajuntament de Mont-roig del Camp
BEGIN:VTIMEZONE
TZID:Europe/Madrid
BEGIN:DAYLIGHT
TZOFFSETFROM:+0100
TZOFFSETTO:+0200
TZNAME:CEST
DTSTART:20180325T010000
END:DAYLIGHT
BEGIN:STANDARD
TZOFFSETFROM:+0200
TZOFFSETTO:+0100
TZNAME:CET
DTSTART:20181028T010000
END:STANDARD
END:VTIMEZONE
BEGIN:VEVENT
DTSTART;TZID=Europe/Madrid:20180209T150000
DTEND;TZID=Europe/Madrid:20180211T190000
DTSTAMP:20260422T012157
CREATED:20180129T164605Z
LAST-MODIFIED:20180129T164648Z
UID:24408-1518188400-1518375600@mont-roig.cat
SUMMARY:Carnaval 2018 a Miami Platja
DESCRIPTION:Vine i participa al Carnaval de Miami Platja amb actes per a tots els gustos. \nBASES Concurs carrosses i comparses RUA CARNAVAL 2018
URL:https://mont-roig.cat/acte/carnaval-2018-miami-platja/
LOCATION:Miami Platja
CATEGORIES:Ajuntament,Festes
ATTACH;FMTTYPE=image/png:https://mont-roig.cat/wp-content/uploads/Carnaval-2018-Miami-Platja-1.png
END:VEVENT
END:VCALENDAR