BEGIN:VCALENDAR
VERSION:2.0
PRODID:-//Ajuntament de Mont-roig del Camp - ECPv5.16.3.1//NONSGML v1.0//EN
CALSCALE:GREGORIAN
METHOD:PUBLISH
X-WR-CALNAME:Ajuntament de Mont-roig del Camp
X-ORIGINAL-URL:https://mont-roig.cat
X-WR-CALDESC:Esdeveniments per Ajuntament de Mont-roig del Camp
BEGIN:VTIMEZONE
TZID:Europe/Madrid
BEGIN:DAYLIGHT
TZOFFSETFROM:+0100
TZOFFSETTO:+0200
TZNAME:CEST
DTSTART:20260329T010000
END:DAYLIGHT
BEGIN:STANDARD
TZOFFSETFROM:+0200
TZOFFSETTO:+0100
TZNAME:CET
DTSTART:20261025T010000
END:STANDARD
END:VTIMEZONE
BEGIN:VEVENT
DTSTART;TZID=Europe/Madrid:20260213T170000
DTEND;TZID=Europe/Madrid:20260213T200000
DTSTAMP:20260419T202913
CREATED:20260203T130805Z
LAST-MODIFIED:20260212T120852Z
UID:88555-1771002000-1771012800@mont-roig.cat
SUMMARY:Carnaval - Ball Infantil
DESCRIPTION:Miami Platja \nBall de disfresses amb animació infantil
URL:https://mont-roig.cat/acte/carnaval-infantil/
LOCATION:Poliesportiu de Miami Platja\, Badajoz\, 4\, Miami Platja
CATEGORIES:Ajuntament,Festes
ATTACH;FMTTYPE=image/png:https://mont-roig.cat/wp-content/uploads/MMF_carnaval2026_STORIE_xdies_Mesa-de-trabajo-1-copia-2-scaled.png
GEO:41.00588;0.92511
X-APPLE-STRUCTURED-LOCATION;VALUE=URI;X-ADDRESS=Poliesportiu de Miami Platja Badajoz 4 Miami Platja;X-APPLE-RADIUS=500;X-TITLE=Badajoz\, 4:geo:0.92511,41.00588
END:VEVENT
END:VCALENDAR