BEGIN:VCALENDAR
VERSION:2.0
PRODID:-//Ajuntament de Mont-roig del Camp - ECPv5.16.3.1//NONSGML v1.0//EN
CALSCALE:GREGORIAN
METHOD:PUBLISH
X-WR-CALNAME:Ajuntament de Mont-roig del Camp
X-ORIGINAL-URL:https://mont-roig.cat
X-WR-CALDESC:Esdeveniments per Ajuntament de Mont-roig del Camp
BEGIN:VTIMEZONE
TZID:Europe/Madrid
BEGIN:DAYLIGHT
TZOFFSETFROM:+0100
TZOFFSETTO:+0200
TZNAME:CEST
DTSTART:20260329T010000
END:DAYLIGHT
BEGIN:STANDARD
TZOFFSETFROM:+0200
TZOFFSETTO:+0100
TZNAME:CET
DTSTART:20261025T010000
END:STANDARD
END:VTIMEZONE
BEGIN:VEVENT
DTSTART;TZID=Europe/Madrid:20260214T160000
DTEND;TZID=Europe/Madrid:20260215T050000
DTSTAMP:20260420T185325
CREATED:20260205T074433Z
LAST-MODIFIED:20260205T075852Z
UID:88646-1771084800-1771131600@mont-roig.cat
SUMMARY:Carnaval - Mont-roig del Camp
DESCRIPTION:Mont-roig del Camp \nAv. Catalunya Rua Infantil \n\n16.30 h – Rua Infantil\nEn arribar al poliesportiu – Ball Infantil amb animació i coca amb xocolata per la mainada.\nInscripcions: Per la Seu Electrònica\n\n  \nAv. Catalunya Rua de Carnaval \n\n22.30 h – Rua de Carnaval\nEn arribar al poliesportiu – Ball de disfresses amb la Marxosa\, animació\, Djs i entrega dels premis del Carnaval 2026\nInscripcions: Per la Seu Electrònica
URL:https://mont-roig.cat/acte/carnaval-mont-roig-del-camp/
LOCATION:Poliesportiu de Mont-roig del Camp\, Carrer Aureli Maria Escarré\, 3\, Mont-roig del Camp\, Tarragona\, 43300\, Spain
CATEGORIES:Ajuntament,Festes
ATTACH;FMTTYPE=image/jpeg:https://mont-roig.cat/wp-content/uploads/Carnaval-Mont-roig.jpg
GEO:41.0865513;0.9606138
X-APPLE-STRUCTURED-LOCATION;VALUE=URI;X-ADDRESS=Poliesportiu de Mont-roig del Camp Carrer Aureli Maria Escarré 3 Mont-roig del Camp Tarragona 43300 Spain;X-APPLE-RADIUS=500;X-TITLE=Carrer Aureli Maria Escarré\, 3:geo:0.9606138,41.0865513
END:VEVENT
END:VCALENDAR