BEGIN:VCALENDAR
VERSION:2.0
PRODID:-//Ajuntament de Mont-roig del Camp - ECPv5.16.3.1//NONSGML v1.0//EN
CALSCALE:GREGORIAN
METHOD:PUBLISH
X-WR-CALNAME:Ajuntament de Mont-roig del Camp
X-ORIGINAL-URL:https://mont-roig.cat
X-WR-CALDESC:Esdeveniments per Ajuntament de Mont-roig del Camp
BEGIN:VTIMEZONE
TZID:Europe/Madrid
BEGIN:DAYLIGHT
TZOFFSETFROM:+0100
TZOFFSETTO:+0200
TZNAME:CEST
DTSTART:20190331T010000
END:DAYLIGHT
BEGIN:STANDARD
TZOFFSETFROM:+0200
TZOFFSETTO:+0100
TZNAME:CET
DTSTART:20191027T010000
END:STANDARD
END:VTIMEZONE
BEGIN:VEVENT
DTSTART;TZID=Europe/Madrid:20190308T160000
DTEND;TZID=Europe/Madrid:20190308T180000
DTSTAMP:20260423T005902
CREATED:20190220T081015Z
LAST-MODIFIED:20190221T075356Z
UID:34394-1552060800-1552068000@mont-roig.cat
SUMMARY:Casos d'invisibilitat de dones en l'actualitat
DESCRIPTION:En motiu del dia de la dona es realitzarà una Dinàmica on es tracta sobre la invisibilitat de grans dones en l’actualitat.
URL:https://mont-roig.cat/acte/casos-dinvisibilitat-de-dones-en-lactualitat-2/
LOCATION:Casal de Joves K1\, c/ Aureli Escarré\, Mont-roig del Camp
CATEGORIES:Ajuntament,Joventut
ATTACH;FMTTYPE=image/jpeg:https://mont-roig.cat/wp-content/uploads/dones.jpg
GEO:41.07825;0.9768931
X-APPLE-STRUCTURED-LOCATION;VALUE=URI;X-ADDRESS=Casal de Joves K1 c/ Aureli Escarré Mont-roig del Camp;X-APPLE-RADIUS=500;X-TITLE=c/ Aureli Escarré:geo:0.9768931,41.07825
END:VEVENT
END:VCALENDAR