BEGIN:VCALENDAR
VERSION:2.0
PRODID:-//Ajuntament de Mont-roig del Camp - ECPv5.16.3.1//NONSGML v1.0//EN
CALSCALE:GREGORIAN
METHOD:PUBLISH
X-WR-CALNAME:Ajuntament de Mont-roig del Camp
X-ORIGINAL-URL:https://mont-roig.cat
X-WR-CALDESC:Esdeveniments per Ajuntament de Mont-roig del Camp
BEGIN:VTIMEZONE
TZID:Europe/Madrid
BEGIN:DAYLIGHT
TZOFFSETFROM:+0100
TZOFFSETTO:+0200
TZNAME:CEST
DTSTART:20190331T010000
END:DAYLIGHT
BEGIN:STANDARD
TZOFFSETFROM:+0200
TZOFFSETTO:+0100
TZNAME:CET
DTSTART:20191027T010000
END:STANDARD
END:VTIMEZONE
BEGIN:VEVENT
DTSTART;TZID=Europe/Madrid:20190105T180000
DTEND;TZID=Europe/Madrid:20190105T200000
DTSTAMP:20260423T084722
CREATED:20181123T103826Z
LAST-MODIFIED:20190103T164811Z
UID:32397-1546711200-1546718400@mont-roig.cat
SUMMARY:Cavalcada del Reis Mags de l’Orient
DESCRIPTION:Els esperarem amb l’actuació de la Batucada Taboo. Recorregut: Av. Del Mar\, c. de la Diputació\, av. de Príncep d’Espanya\, av. de Cadis i c. de Sòria \nCol·labora: Yeguada Nieto i Veïns/es de Miami Platja. \nPrograma Nadal 2018 Miami Platja \nPrograma Nadal 2018 Mont-roig
URL:https://mont-roig.cat/acte/cavalcada-del-reis-mags-de-lorient/
LOCATION:Església Santa M. Magdalena
CATEGORIES:Ajuntament,Festes
ATTACH;FMTTYPE=image/jpeg:https://mont-roig.cat/wp-content/uploads/MM_GENERIC_NADAL2018.jpeg
END:VEVENT
END:VCALENDAR