BEGIN:VCALENDAR
VERSION:2.0
PRODID:-//Ajuntament de Mont-roig del Camp - ECPv5.16.3.1//NONSGML v1.0//EN
CALSCALE:GREGORIAN
METHOD:PUBLISH
X-WR-CALNAME:Ajuntament de Mont-roig del Camp
X-ORIGINAL-URL:https://mont-roig.cat
X-WR-CALDESC:Esdeveniments per Ajuntament de Mont-roig del Camp
BEGIN:VTIMEZONE
TZID:Europe/Madrid
BEGIN:DAYLIGHT
TZOFFSETFROM:+0100
TZOFFSETTO:+0200
TZNAME:CEST
DTSTART:20240331T010000
END:DAYLIGHT
BEGIN:STANDARD
TZOFFSETFROM:+0200
TZOFFSETTO:+0100
TZNAME:CET
DTSTART:20241027T010000
END:STANDARD
END:VTIMEZONE
BEGIN:VEVENT
DTSTART;VALUE=DATE:20241125
DTEND;VALUE=DATE:20241126
DTSTAMP:20260419T220921
CREATED:20241029T112452Z
LAST-MODIFIED:20241121T081643Z
UID:79313-1732492800-1732579199@mont-roig.cat
SUMMARY:Celebració 25N
DESCRIPTION:Descarrega’t el program d’actes (descarrega el pdf)
URL:https://mont-roig.cat/acte/celebracio-25n/
LOCATION:Mont-roig Miami Platja
CATEGORIES:Ajuntament,Polítiques d'Igualtat i de les Dones
ATTACH;FMTTYPE=image/png:https://mont-roig.cat/wp-content/uploads/25N_2024meta.png
END:VEVENT
END:VCALENDAR