BEGIN:VCALENDAR
VERSION:2.0
PRODID:-//Ajuntament de Mont-roig del Camp - ECPv5.16.3.1//NONSGML v1.0//EN
CALSCALE:GREGORIAN
METHOD:PUBLISH
X-WR-CALNAME:Ajuntament de Mont-roig del Camp
X-ORIGINAL-URL:https://mont-roig.cat
X-WR-CALDESC:Esdeveniments per Ajuntament de Mont-roig del Camp
BEGIN:VTIMEZONE
TZID:Europe/Madrid
BEGIN:DAYLIGHT
TZOFFSETFROM:+0100
TZOFFSETTO:+0200
TZNAME:CEST
DTSTART:20170326T010000
END:DAYLIGHT
BEGIN:STANDARD
TZOFFSETFROM:+0200
TZOFFSETTO:+0100
TZNAME:CET
DTSTART:20171029T010000
END:STANDARD
END:VTIMEZONE
BEGIN:VEVENT
DTSTART;TZID=Europe/Madrid:20170403T180000
DTEND;TZID=Europe/Madrid:20170403T190000
DTSTAMP:20260420T065531
CREATED:20170324T083424Z
LAST-MODIFIED:20170331T125904Z
UID:16030-1491242400-1491246000@mont-roig.cat
SUMMARY:Celebració del llibre infantil
DESCRIPTION:Porta una disfressa de qualsevol personatge de Hans Christian Andersen. Explicarem “El soldadet de plom” i construirem un vaixell de paper. Farem foto col·lectiva! \nActivitat que tindrà lloc a la Biblioteca municipal de Mont-roig del Camp i de Miami Platja. \n  \n 
URL:https://mont-roig.cat/acte/celebracio-llibre-infantil/
LOCATION:Biblioteca Joan Miró\, Carrer Mare de Déu de la Roca\, 5\, Mont-roig del Camp\, Tarragona\, 43300\, Spain
CATEGORIES:Ajuntament,Biblioteca
ATTACH;FMTTYPE=image/jpeg:https://mont-roig.cat/wp-content/uploads/ANDERSEN-1-e1490965124309.jpg
GEO:41.08714;0.958
X-APPLE-STRUCTURED-LOCATION;VALUE=URI;X-ADDRESS=Biblioteca Joan Miró Carrer Mare de Déu de la Roca 5 Mont-roig del Camp Tarragona 43300 Spain;X-APPLE-RADIUS=500;X-TITLE=Carrer Mare de Déu de la Roca\, 5:geo:0.958,41.08714
END:VEVENT
END:VCALENDAR