BEGIN:VCALENDAR
VERSION:2.0
PRODID:-//Ajuntament de Mont-roig del Camp - ECPv5.16.3.1//NONSGML v1.0//EN
CALSCALE:GREGORIAN
METHOD:PUBLISH
X-WR-CALNAME:Ajuntament de Mont-roig del Camp
X-ORIGINAL-URL:https://mont-roig.cat
X-WR-CALDESC:Esdeveniments per Ajuntament de Mont-roig del Camp
BEGIN:VTIMEZONE
TZID:Europe/Madrid
BEGIN:DAYLIGHT
TZOFFSETFROM:+0100
TZOFFSETTO:+0200
TZNAME:CEST
DTSTART:20260329T010000
END:DAYLIGHT
BEGIN:STANDARD
TZOFFSETFROM:+0200
TZOFFSETTO:+0100
TZNAME:CET
DTSTART:20261025T010000
END:STANDARD
END:VTIMEZONE
BEGIN:VEVENT
DTSTART;TZID=Europe/Madrid:20260304T173000
DTEND;TZID=Europe/Madrid:20260304T173000
DTSTAMP:20260419T180322
CREATED:20260302T074449Z
LAST-MODIFIED:20260303T070951Z
UID:89512-1772645400-1772645400@mont-roig.cat
SUMMARY:Cicle Contes i més contes
DESCRIPTION:Mont-roig del Camp \n\n\n17.30 h – La princesa rebel\nTot seguit – Pinta’t la cara!\n\nDescarrega’t el programa del 8M Dia Internacional de les Dones AQUÍ
URL:https://mont-roig.cat/acte/cicle-contes-i-mes-contes-31/
LOCATION:Biblioteca Joan Miró\, Carrer Mare de Déu de la Roca\, 5\, Mont-roig del Camp\, Tarragona\, 43300\, Spain
CATEGORIES:Ajuntament,Cultura,Igualtat
ATTACH;FMTTYPE=image/jpeg:https://mont-roig.cat/wp-content/uploads/8N-11.jpg
GEO:41.08714;0.958
X-APPLE-STRUCTURED-LOCATION;VALUE=URI;X-ADDRESS=Biblioteca Joan Miró Carrer Mare de Déu de la Roca 5 Mont-roig del Camp Tarragona 43300 Spain;X-APPLE-RADIUS=500;X-TITLE=Carrer Mare de Déu de la Roca\, 5:geo:0.958,41.08714
END:VEVENT
END:VCALENDAR