BEGIN:VCALENDAR
VERSION:2.0
PRODID:-//Ajuntament de Mont-roig del Camp - ECPv5.16.3.1//NONSGML v1.0//EN
CALSCALE:GREGORIAN
METHOD:PUBLISH
X-WR-CALNAME:Ajuntament de Mont-roig del Camp
X-ORIGINAL-URL:https://mont-roig.cat
X-WR-CALDESC:Esdeveniments per Ajuntament de Mont-roig del Camp
BEGIN:VTIMEZONE
TZID:Europe/Madrid
BEGIN:DAYLIGHT
TZOFFSETFROM:+0100
TZOFFSETTO:+0200
TZNAME:CEST
DTSTART:20200329T010000
END:DAYLIGHT
BEGIN:STANDARD
TZOFFSETFROM:+0200
TZOFFSETTO:+0100
TZNAME:CET
DTSTART:20201025T010000
END:STANDARD
END:VTIMEZONE
BEGIN:VEVENT
DTSTART;TZID=Europe/Madrid:20200428T170000
DTEND;TZID=Europe/Madrid:20200428T180000
DTSTAMP:20260421T054211
CREATED:20200416T111234Z
LAST-MODIFIED:20200428T074943Z
UID:45543-1588093200-1588096800@mont-roig.cat
SUMMARY:Cicle de xerrades online: "Meditació"
DESCRIPTION:A càrrec de la Sra. Sílvia Monne\, terapèuta i experta en temes de creixement personal\, especialment ioga i meditació. \nInscripcions: enviant un correu a promocio@mont-roig.cat indicant el vostre nom\, DNI\, telèfon i e-mail\, o bé trucant al 608 236 350. \nUna vegada feta la inscripció\, et farem arribar el link per entrar a la xerrada.
URL:https://mont-roig.cat/acte/cicle-de-xerrades-online-meditacio/
CATEGORIES:Ajuntament,Impuls Econòmic i Ocupació
ATTACH;FMTTYPE=image/jpeg:https://mont-roig.cat/wp-content/uploads/Cartell-Meditació_page-0001.jpg
END:VEVENT
END:VCALENDAR