BEGIN:VCALENDAR
VERSION:2.0
PRODID:-//Ajuntament de Mont-roig del Camp - ECPv5.16.3.1//NONSGML v1.0//EN
CALSCALE:GREGORIAN
METHOD:PUBLISH
X-WR-CALNAME:Ajuntament de Mont-roig del Camp
X-ORIGINAL-URL:https://mont-roig.cat
X-WR-CALDESC:Esdeveniments per Ajuntament de Mont-roig del Camp
BEGIN:VTIMEZONE
TZID:Europe/Madrid
BEGIN:DAYLIGHT
TZOFFSETFROM:+0100
TZOFFSETTO:+0200
TZNAME:CEST
DTSTART:20200329T010000
END:DAYLIGHT
BEGIN:STANDARD
TZOFFSETFROM:+0200
TZOFFSETTO:+0100
TZNAME:CET
DTSTART:20201025T010000
END:STANDARD
END:VTIMEZONE
BEGIN:VEVENT
DTSTART;TZID=Europe/Madrid:20200514T170000
DTEND;TZID=Europe/Madrid:20200514T183000
DTSTAMP:20260420T234816
CREATED:20200504T074715Z
LAST-MODIFIED:20200514T074627Z
UID:47137-1589475600-1589481000@mont-roig.cat
SUMMARY:Cicle de xerrades online: "Nova experiència de compra: Part 1"
DESCRIPTION:A càrrec de Andrea Lacal i Meritxell Perpiñá \nInscripcions: enviant un correu electrònic a promocio@mont-roig.cat indicant nom\, DNI\, telèfon i e-mail o bé trucant al 608 236 350. Una vegada feta la inscripció\, us farem arribar el link per entrar a la xerrada.
URL:https://mont-roig.cat/acte/cicle-de-xerrades-online-nova-experiencia-de-compra-part-1/
CATEGORIES:Ajuntament,Impuls Econòmic i Ocupació
ATTACH;FMTTYPE=image/jpeg:https://mont-roig.cat/wp-content/uploads/Cartell_xerrades-online_14-MAIG_page-0001.jpg
END:VEVENT
END:VCALENDAR