BEGIN:VCALENDAR
VERSION:2.0
PRODID:-//Ajuntament de Mont-roig del Camp - ECPv5.16.3.1//NONSGML v1.0//EN
CALSCALE:GREGORIAN
METHOD:PUBLISH
X-WR-CALNAME:Ajuntament de Mont-roig del Camp
X-ORIGINAL-URL:https://mont-roig.cat
X-WR-CALDESC:Esdeveniments per Ajuntament de Mont-roig del Camp
BEGIN:VTIMEZONE
TZID:Europe/Madrid
BEGIN:DAYLIGHT
TZOFFSETFROM:+0100
TZOFFSETTO:+0200
TZNAME:CEST
DTSTART:20190331T010000
END:DAYLIGHT
BEGIN:STANDARD
TZOFFSETFROM:+0200
TZOFFSETTO:+0100
TZNAME:CET
DTSTART:20191027T010000
END:STANDARD
END:VTIMEZONE
BEGIN:VEVENT
DTSTART;TZID=Europe/Madrid:20190809T220000
DTEND;TZID=Europe/Madrid:20190809T233000
DTSTAMP:20260419T214654
CREATED:20190730T072616Z
LAST-MODIFIED:20190730T072616Z
UID:38256-1565388000-1565393400@mont-roig.cat
SUMMARY:Cinema a la fresca
DESCRIPTION:
URL:https://mont-roig.cat/acte/cinema-a-la-fresca/2019-08-09/
LOCATION:Plaça Mossèn Gaietà Ivern\, Plaça Mossèn Gaietà Ivern\, Mont-roig del Camp\, Tarragona\, 43300\, Spain
CATEGORIES:Ajuntament,Joventut
ATTACH;FMTTYPE=image/png:https://mont-roig.cat/wp-content/uploads/Cinema-a-la-fresca-.png
GEO:41.0880839;0.9576999
X-APPLE-STRUCTURED-LOCATION;VALUE=URI;X-ADDRESS=Plaça Mossèn Gaietà Ivern Plaça Mossèn Gaietà Ivern Mont-roig del Camp Tarragona 43300 Spain;X-APPLE-RADIUS=500;X-TITLE=Plaça Mossèn Gaietà Ivern:geo:0.9576999,41.0880839
END:VEVENT
END:VCALENDAR