BEGIN:VCALENDAR
VERSION:2.0
PRODID:-//Ajuntament de Mont-roig del Camp - ECPv5.16.3.1//NONSGML v1.0//EN
CALSCALE:GREGORIAN
METHOD:PUBLISH
X-WR-CALNAME:Ajuntament de Mont-roig del Camp
X-ORIGINAL-URL:https://mont-roig.cat
X-WR-CALDESC:Esdeveniments per Ajuntament de Mont-roig del Camp
BEGIN:VTIMEZONE
TZID:Europe/Madrid
BEGIN:DAYLIGHT
TZOFFSETFROM:+0100
TZOFFSETTO:+0200
TZNAME:CEST
DTSTART:20210328T010000
END:DAYLIGHT
BEGIN:STANDARD
TZOFFSETFROM:+0200
TZOFFSETTO:+0100
TZNAME:CET
DTSTART:20211031T010000
END:STANDARD
END:VTIMEZONE
BEGIN:VEVENT
DTSTART;TZID=Europe/Madrid:20210806T220000
DTEND;TZID=Europe/Madrid:20210806T220000
DTSTAMP:20260419T215521
CREATED:20210701T115530Z
LAST-MODIFIED:20210701T115530Z
UID:56402-1628287200-1628287200@mont-roig.cat
SUMMARY:'Cinema Paradiso'\, al cicle de Cinema Clàssic
DESCRIPTION:Es podrà accedir al recinte del cinema\, a partir de les 21h\, a través de les escales ubicades al Passeig Marítim\, 68 i al Passeig Marítim\, 56 de Miami Platja.\n\n\n\n\n\n\nEs disposarà de gel hidroalcohòlic a l’accés i en cas de no haver-hi distància de seguretat\, hauràs de posar-te la mascareta.\n\n\n\n\n\n\nEl festival té un aforament limitat\, així que procura arribar amb suficient temps d’antelació\, per acomodar-te a la platja de la forma més ordenada possible\, garantint la distància de seguretat amb la resta d’usuaris del cinema.\n\n\n\n\n\n\nNo hi ha cadires disponibles pels assistents\, t’hauràs de portar la teva tovallola o cadira de platja i no està permès portar altres elements de mobiliari.\n\n\n\n\n\n\nS’haurà d’estar assegut mentre duri la projecció\, per tal de no molestar als altres espectadors.\n\n\n\n\n\n\nEn tot moment\, s’ha de mantenir la platja i el seu entorn lliure de deixalles\, i en cas de generar residus\, llençar-los al contenidor corresponent.\n\n\n\n\n Totes les pel·lícules es projectaran en castellà.
URL:https://mont-roig.cat/acte/cinema-paradiso-al-cicle-de-cinema-classic/
LOCATION:Cala dels Vienesos – Platja dels Penyals\, Miami Platja
CATEGORIES:Ajuntament,Turisme
ATTACH;FMTTYPE=image/png:https://mont-roig.cat/wp-content/uploads/5cinemaparadisocat.png
GEO:41.0865513;0.9606138
END:VEVENT
END:VCALENDAR