BEGIN:VCALENDAR
VERSION:2.0
PRODID:-//Ajuntament de Mont-roig del Camp - ECPv5.16.3.1//NONSGML v1.0//EN
CALSCALE:GREGORIAN
METHOD:PUBLISH
X-WR-CALNAME:Ajuntament de Mont-roig del Camp
X-ORIGINAL-URL:https://mont-roig.cat
X-WR-CALDESC:Esdeveniments per Ajuntament de Mont-roig del Camp
BEGIN:VTIMEZONE
TZID:Europe/Madrid
BEGIN:DAYLIGHT
TZOFFSETFROM:+0100
TZOFFSETTO:+0200
TZNAME:CEST
DTSTART:20250330T010000
END:DAYLIGHT
BEGIN:STANDARD
TZOFFSETFROM:+0200
TZOFFSETTO:+0100
TZNAME:CET
DTSTART:20251026T010000
END:STANDARD
END:VTIMEZONE
BEGIN:VEVENT
DTSTART;TZID=Europe/Madrid:20251020T183000
DTEND;TZID=Europe/Madrid:20251020T200000
DTSTAMP:20260420T161226
CREATED:20250930T125828Z
LAST-MODIFIED:20250930T125909Z
UID:85862-1760985000-1760990400@mont-roig.cat
SUMMARY:Club de lectura: 'El colibrí'
DESCRIPTION:
URL:https://mont-roig.cat/acte/club-de-lectura-el-colibri/
LOCATION:Biblioteca Joan Miró Mont-roig\, Carrer Mare de Déu de la Roca\, 5\, Mont-roig del Camp
CATEGORIES:Ajuntament,Biblioteca
ATTACH;FMTTYPE=image/jpeg:https://mont-roig.cat/wp-content/uploads/Club-de-lectura_joan-miro.-OCTUBRE-25.jpg
GEO:41.08714;0.958
X-APPLE-STRUCTURED-LOCATION;VALUE=URI;X-ADDRESS=Biblioteca Joan Miró Mont-roig Carrer Mare de Déu de la Roca 5 Mont-roig del Camp;X-APPLE-RADIUS=500;X-TITLE=Carrer Mare de Déu de la Roca\, 5:geo:0.958,41.08714
END:VEVENT
END:VCALENDAR