BEGIN:VCALENDAR
VERSION:2.0
PRODID:-//Ajuntament de Mont-roig del Camp - ECPv5.16.3.1//NONSGML v1.0//EN
CALSCALE:GREGORIAN
METHOD:PUBLISH
X-WR-CALNAME:Ajuntament de Mont-roig del Camp
X-ORIGINAL-URL:https://mont-roig.cat
X-WR-CALDESC:Esdeveniments per Ajuntament de Mont-roig del Camp
BEGIN:VTIMEZONE
TZID:Europe/Madrid
BEGIN:DAYLIGHT
TZOFFSETFROM:+0100
TZOFFSETTO:+0200
TZNAME:CEST
DTSTART:20180325T010000
END:DAYLIGHT
BEGIN:STANDARD
TZOFFSETFROM:+0200
TZOFFSETTO:+0100
TZNAME:CET
DTSTART:20181028T010000
END:STANDARD
END:VTIMEZONE
BEGIN:VEVENT
DTSTART;TZID=Europe/Madrid:20181029T190000
DTEND;TZID=Europe/Madrid:20181029T203000
DTSTAMP:20260422T190005
CREATED:20181009T173531Z
LAST-MODIFIED:20181009T173531Z
UID:30957-1540839600-1540845000@mont-roig.cat
SUMMARY:Club de lectura “Els esquirols de Central Park estan tristos els dilluns” de Katherine Pancol.
DESCRIPTION:Club de lectura “Els esquirols de Central Park estan tristos els dilluns” de Katherine Pancol.
URL:https://mont-roig.cat/acte/club-de-lectura-els-esquirols-de-central-park-estan-tristos-els-dilluns-de-katherine-pancol/
LOCATION:Biblioteca Joan Miró Mont-roig\, Carrer Mare de Déu de la Roca\, 5\, Mont-roig del Camp
CATEGORIES:Ajuntament,Biblioteca
GEO:41.08714;0.958
X-APPLE-STRUCTURED-LOCATION;VALUE=URI;X-ADDRESS=Biblioteca Joan Miró Mont-roig Carrer Mare de Déu de la Roca 5 Mont-roig del Camp;X-APPLE-RADIUS=500;X-TITLE=Carrer Mare de Déu de la Roca\, 5:geo:0.958,41.08714
END:VEVENT
END:VCALENDAR