BEGIN:VCALENDAR
VERSION:2.0
PRODID:-//Ajuntament de Mont-roig del Camp - ECPv5.16.3.1//NONSGML v1.0//EN
CALSCALE:GREGORIAN
METHOD:PUBLISH
X-WR-CALNAME:Ajuntament de Mont-roig del Camp
X-ORIGINAL-URL:https://mont-roig.cat
X-WR-CALDESC:Esdeveniments per Ajuntament de Mont-roig del Camp
BEGIN:VTIMEZONE
TZID:Europe/Madrid
BEGIN:DAYLIGHT
TZOFFSETFROM:+0100
TZOFFSETTO:+0200
TZNAME:CEST
DTSTART:20260329T010000
END:DAYLIGHT
BEGIN:STANDARD
TZOFFSETFROM:+0200
TZOFFSETTO:+0100
TZNAME:CET
DTSTART:20261025T010000
END:STANDARD
END:VTIMEZONE
BEGIN:VEVENT
DTSTART;TZID=Europe/Madrid:20260430T080000
DTEND;TZID=Europe/Madrid:20260430T170000
DTSTAMP:20260419T233837
CREATED:20260202T074536Z
LAST-MODIFIED:20260202T074536Z
UID:88449-1777536000-1777568400@mont-roig.cat
SUMMARY:Club de lectura en família
DESCRIPTION:Miami Platja \nSílvia Palazón dirigeix aquesta activitat per a famílies amb infants que cursen I4\, I5 i 1r \nPlaces limitades! \nInscripció prèvia: 977 17 25 62
URL:https://mont-roig.cat/acte/club-de-lectura-en-familia-3/
LOCATION:bilbioteca miramar
CATEGORIES:Ajuntament,Biblioteca
ATTACH;FMTTYPE=image/jpeg:https://mont-roig.cat/wp-content/uploads/Club-de-lectura-en-Familia-Miami.jpg
END:VEVENT
END:VCALENDAR