BEGIN:VCALENDAR
VERSION:2.0
PRODID:-//Ajuntament de Mont-roig del Camp - ECPv5.16.3.1//NONSGML v1.0//EN
CALSCALE:GREGORIAN
METHOD:PUBLISH
X-WR-CALNAME:Ajuntament de Mont-roig del Camp
X-ORIGINAL-URL:https://mont-roig.cat
X-WR-CALDESC:Esdeveniments per Ajuntament de Mont-roig del Camp
BEGIN:VTIMEZONE
TZID:Europe/Madrid
BEGIN:DAYLIGHT
TZOFFSETFROM:+0100
TZOFFSETTO:+0200
TZNAME:CEST
DTSTART:20220327T010000
END:DAYLIGHT
BEGIN:STANDARD
TZOFFSETFROM:+0200
TZOFFSETTO:+0100
TZNAME:CET
DTSTART:20221030T010000
END:STANDARD
END:VTIMEZONE
BEGIN:VEVENT
DTSTART;TZID=Europe/Madrid:20221125T170000
DTEND;TZID=Europe/Madrid:20221125T180000
DTSTAMP:20260422T013022
CREATED:20221103T124123Z
LAST-MODIFIED:20221103T131858Z
UID:66420-1669395600-1669399200@mont-roig.cat
SUMMARY:Club de lectura infantil amb “Això és un secret que només sé jo” d'Eulàlia Canal.
DESCRIPTION:Club de lectura infantil amb el llibre “Això és un secret que només sé jo” d’Eulàlia Canal.
URL:https://mont-roig.cat/acte/club-de-lectura-infantil-amb-el-llibre-aixo-es-un-secret-que-nomes-se-jo-de-eulalia-canal/
LOCATION:Biblioteca Miramar\, Carrer Soria\, 16\, Miami Platja\, Tarragona\, 43892\, Spain
CATEGORIES:Ajuntament,Biblioteca
ORGANIZER;CN="Biblioteca%20Miramar":MAILTO:biblioteca.miami@mont-roig.cat
GEO:41.0027012;0.9276747
X-APPLE-STRUCTURED-LOCATION;VALUE=URI;X-ADDRESS=Biblioteca Miramar Carrer Soria 16 Miami Platja Tarragona 43892 Spain;X-APPLE-RADIUS=500;X-TITLE=Carrer Soria\, 16:geo:0.9276747,41.0027012
END:VEVENT
END:VCALENDAR