BEGIN:VCALENDAR
VERSION:2.0
PRODID:-//Ajuntament de Mont-roig del Camp - ECPv5.16.3.1//NONSGML v1.0//EN
CALSCALE:GREGORIAN
METHOD:PUBLISH
X-WR-CALNAME:Ajuntament de Mont-roig del Camp
X-ORIGINAL-URL:https://mont-roig.cat
X-WR-CALDESC:Esdeveniments per Ajuntament de Mont-roig del Camp
BEGIN:VTIMEZONE
TZID:Europe/Madrid
BEGIN:DAYLIGHT
TZOFFSETFROM:+0100
TZOFFSETTO:+0200
TZNAME:CEST
DTSTART:20260329T010000
END:DAYLIGHT
BEGIN:STANDARD
TZOFFSETFROM:+0200
TZOFFSETTO:+0100
TZNAME:CET
DTSTART:20261025T010000
END:STANDARD
END:VTIMEZONE
BEGIN:VEVENT
DTSTART;TZID=Europe/Madrid:20260617T170000
DTEND;TZID=Europe/Madrid:20260617T170000
DTSTAMP:20260420T003549
CREATED:20260409T094322Z
LAST-MODIFIED:20260409T094322Z
UID:90675-1781715600-1781715600@mont-roig.cat
SUMMARY:Comença la partida!
DESCRIPTION:Mont-roig del Camp \n\nUna tarda per jugar\, decidir i gaudir en comunitat\, mentre descobrim jocs de rol\, estratègia\, cooperatius i de party per a totes les edats i gustos. Una activitat pensada per fomentar la creativitat\, l’enginy i el joc social. Tu tries\, tu jugues! \n\nEspai Jove K1\nA partir de 12 anys\nGratuït
URL:https://mont-roig.cat/acte/comenca-la-partida-5/
LOCATION:Espai Jove K1\, Carrer Aureli M. Escarré\, 28\, Mont-roig del Camp\, Tarragona\, 43300\, Spain
CATEGORIES:Ajuntament,Joventut
ATTACH;FMTTYPE=image/png:https://mont-roig.cat/wp-content/uploads/JOCS-BANNER.png
END:VEVENT
END:VCALENDAR