BEGIN:VCALENDAR
VERSION:2.0
PRODID:-//Ajuntament de Mont-roig del Camp - ECPv5.16.3.1//NONSGML v1.0//EN
CALSCALE:GREGORIAN
METHOD:PUBLISH
X-WR-CALNAME:Ajuntament de Mont-roig del Camp
X-ORIGINAL-URL:https://mont-roig.cat
X-WR-CALDESC:Esdeveniments per Ajuntament de Mont-roig del Camp
BEGIN:VTIMEZONE
TZID:Europe/Madrid
BEGIN:DAYLIGHT
TZOFFSETFROM:+0100
TZOFFSETTO:+0200
TZNAME:CEST
DTSTART:20220327T010000
END:DAYLIGHT
BEGIN:STANDARD
TZOFFSETFROM:+0200
TZOFFSETTO:+0100
TZNAME:CET
DTSTART:20221030T010000
END:STANDARD
END:VTIMEZONE
BEGIN:VEVENT
DTSTART;TZID=Europe/Madrid:20220716T223000
DTEND;TZID=Europe/Madrid:20220716T233000
DTSTAMP:20260420T012232
CREATED:20220629T102320Z
LAST-MODIFIED:20220629T102320Z
UID:63946-1658010600-1658014200@mont-roig.cat
SUMMARY:Concert amb Filippo Gambetta i Sergio Caputo al Cap de Setmana Diatònic
DESCRIPTION:El Cap de Setmana Diatònic\, que engunay se celebra a diversos municipis del Baix Camp\, tindrà el concert de Filippo Gam betta i Sergio Caputo a la Mare de Déu de la Roca.
URL:https://mont-roig.cat/acte/concert-amb-filippo-gambetta-i-sergio-caputo-al-cap-de-setmana-diatonic/
LOCATION:Ermita Mare de Déu de la Roca
CATEGORIES:Ajuntament,Cultura
ATTACH;FMTTYPE=image/jpeg:https://mont-roig.cat/wp-content/uploads/287965416_2203913963094714_6351874982563843576_n.jpg
END:VEVENT
END:VCALENDAR