BEGIN:VCALENDAR
VERSION:2.0
PRODID:-//Ajuntament de Mont-roig del Camp - ECPv5.16.3.1//NONSGML v1.0//EN
CALSCALE:GREGORIAN
METHOD:PUBLISH
X-WR-CALNAME:Ajuntament de Mont-roig del Camp
X-ORIGINAL-URL:https://mont-roig.cat
X-WR-CALDESC:Esdeveniments per Ajuntament de Mont-roig del Camp
BEGIN:VTIMEZONE
TZID:Europe/Madrid
BEGIN:DAYLIGHT
TZOFFSETFROM:+0100
TZOFFSETTO:+0200
TZNAME:CEST
DTSTART:20170326T010000
END:DAYLIGHT
BEGIN:STANDARD
TZOFFSETFROM:+0200
TZOFFSETTO:+0100
TZNAME:CET
DTSTART:20171029T010000
END:STANDARD
END:VTIMEZONE
BEGIN:VEVENT
DTSTART;TZID=Europe/Madrid:20171217T180000
DTEND;TZID=Europe/Madrid:20171217T200000
DTSTAMP:20260420T015938
CREATED:20171201T185010Z
LAST-MODIFIED:20171201T185010Z
UID:23282-1513533600-1513540800@mont-roig.cat
SUMMARY:Concert de Nadal
DESCRIPTION:Amb la Coral Sant Miquel de Mont-roig i la Coral Verge dels Prats de l’Aldea. \nORGANITZA: Coral Sant Miquel de Mont-roig
URL:https://mont-roig.cat/acte/concert-de-nadal/
LOCATION:Casal de Joves K1\, c/ Aureli Escarré\, Mont-roig del Camp
GEO:41.07825;0.9768931
X-APPLE-STRUCTURED-LOCATION;VALUE=URI;X-ADDRESS=Casal de Joves K1 c/ Aureli Escarré Mont-roig del Camp;X-APPLE-RADIUS=500;X-TITLE=c/ Aureli Escarré:geo:0.9768931,41.07825
END:VEVENT
END:VCALENDAR