BEGIN:VCALENDAR
VERSION:2.0
PRODID:-//Ajuntament de Mont-roig del Camp - ECPv5.16.3.1//NONSGML v1.0//EN
CALSCALE:GREGORIAN
METHOD:PUBLISH
X-WR-CALNAME:Ajuntament de Mont-roig del Camp
X-ORIGINAL-URL:https://mont-roig.cat
X-WR-CALDESC:Esdeveniments per Ajuntament de Mont-roig del Camp
BEGIN:VTIMEZONE
TZID:Europe/Madrid
BEGIN:DAYLIGHT
TZOFFSETFROM:+0100
TZOFFSETTO:+0200
TZNAME:CEST
DTSTART:20170326T010000
END:DAYLIGHT
BEGIN:STANDARD
TZOFFSETFROM:+0200
TZOFFSETTO:+0100
TZNAME:CET
DTSTART:20171029T010000
END:STANDARD
END:VTIMEZONE
BEGIN:VEVENT
DTSTART;TZID=Europe/Madrid:20170910T220000
DTEND;TZID=Europe/Madrid:20170910T233000
DTSTAMP:20260420T002922
CREATED:20170821T121157Z
LAST-MODIFIED:20170821T121157Z
UID:21248-1505080800-1505086200@mont-roig.cat
SUMMARY:Concert amb Mel i Mató
DESCRIPTION:Concert de cançons pròpies i clàssics dels cantautors i trobadors de tots els temps amb el grup Mel i Mató. 
URL:https://mont-roig.cat/acte/concert-mel-mato/
LOCATION:Plaça Joan Miró
CATEGORIES:Ajuntament
END:VEVENT
END:VCALENDAR