BEGIN:VCALENDAR
VERSION:2.0
PRODID:-//Ajuntament de Mont-roig del Camp - ECPv5.16.3.1//NONSGML v1.0//EN
CALSCALE:GREGORIAN
METHOD:PUBLISH
X-WR-CALNAME:Ajuntament de Mont-roig del Camp
X-ORIGINAL-URL:https://mont-roig.cat
X-WR-CALDESC:Esdeveniments per Ajuntament de Mont-roig del Camp
BEGIN:VTIMEZONE
TZID:Europe/Madrid
BEGIN:DAYLIGHT
TZOFFSETFROM:+0100
TZOFFSETTO:+0200
TZNAME:CEST
DTSTART:20210328T010000
END:DAYLIGHT
BEGIN:STANDARD
TZOFFSETFROM:+0200
TZOFFSETTO:+0100
TZNAME:CET
DTSTART:20211031T010000
END:STANDARD
END:VTIMEZONE
BEGIN:VEVENT
DTSTART;TZID=Europe/Madrid:20210304T183000
DTEND;TZID=Europe/Madrid:20210304T193000
DTSTAMP:20260421T195340
CREATED:20210302T124349Z
LAST-MODIFIED:20210302T124349Z
UID:54094-1614882600-1614886200@mont-roig.cat
SUMMARY:Conferència "Les dones a l'antiguitat clàssica"
DESCRIPTION:Dintre de la programació especial del Dia Internacional de la Dona 8M\, és realitzarà una conferència de Les dones a l’antiguitat clàssica a càrrec de Meritxell Blay Boquera\, especialista en llengües clàssiques. \nA través de la plataforma Meet. \nCal inscripció prévia a biblioteca@mont-roig.cat \n 
URL:https://mont-roig.cat/acte/conferencia-les-dones-a-lantiguitat-classica/
CATEGORIES:Cultura
END:VEVENT
END:VCALENDAR