BEGIN:VCALENDAR
VERSION:2.0
PRODID:-//Ajuntament de Mont-roig del Camp - ECPv5.16.3.1//NONSGML v1.0//EN
CALSCALE:GREGORIAN
METHOD:PUBLISH
X-WR-CALNAME:Ajuntament de Mont-roig del Camp
X-ORIGINAL-URL:https://mont-roig.cat
X-WR-CALDESC:Esdeveniments per Ajuntament de Mont-roig del Camp
BEGIN:VTIMEZONE
TZID:Europe/Madrid
BEGIN:DAYLIGHT
TZOFFSETFROM:+0100
TZOFFSETTO:+0200
TZNAME:CEST
DTSTART:20210328T010000
END:DAYLIGHT
BEGIN:STANDARD
TZOFFSETFROM:+0200
TZOFFSETTO:+0100
TZNAME:CET
DTSTART:20211031T010000
END:STANDARD
END:VTIMEZONE
BEGIN:VEVENT
DTSTART;TZID=Europe/Madrid:20210609T190000
DTEND;TZID=Europe/Madrid:20210609T193000
DTSTAMP:20260419T211348
CREATED:20210604T105545Z
LAST-MODIFIED:20210604T105545Z
UID:55956-1623265200-1623267000@mont-roig.cat
SUMMARY:Connecta't Jove
DESCRIPTION:Nova sessió de Connecta’t Jove\, en directe a través del canal d’Instagram de Joventut @casaljovek1ik2 \nAvui hi participarà l’Erika Izquierdo\, que escriu des de ben jove\, i ha participat en diverses ocasions en el Concurs Literari Vila de Mont-roig\, guanyant el 2017 el primer premi de poesia juvenil i al 2019 el segon premi de narrativa breu\, i ara ens sorprèn amb la seva primera novel·la Galaia\, reina de reyes. \n\nConnecta’t Jove\nA les 19 h\nCanal d’Instagram @casaljovek1ik2
URL:https://mont-roig.cat/acte/connectat-jove-2/
CATEGORIES:Cultura,Joventut
END:VEVENT
END:VCALENDAR