BEGIN:VCALENDAR
VERSION:2.0
PRODID:-//Ajuntament de Mont-roig del Camp - ECPv5.16.3.1//NONSGML v1.0//EN
CALSCALE:GREGORIAN
METHOD:PUBLISH
X-WR-CALNAME:Ajuntament de Mont-roig del Camp
X-ORIGINAL-URL:https://mont-roig.cat
X-WR-CALDESC:Esdeveniments per Ajuntament de Mont-roig del Camp
BEGIN:VTIMEZONE
TZID:Europe/Madrid
BEGIN:DAYLIGHT
TZOFFSETFROM:+0100
TZOFFSETTO:+0200
TZNAME:CEST
DTSTART:20210328T010000
END:DAYLIGHT
BEGIN:STANDARD
TZOFFSETFROM:+0200
TZOFFSETTO:+0100
TZNAME:CET
DTSTART:20211031T010000
END:STANDARD
END:VTIMEZONE
BEGIN:VEVENT
DTSTART;TZID=Europe/Madrid:20210331T193000
DTEND;TZID=Europe/Madrid:20210331T200000
DTSTAMP:20260423T110038
CREATED:20210325T154801Z
LAST-MODIFIED:20210325T154801Z
UID:54459-1617219000-1617220800@mont-roig.cat
SUMMARY:Connecta't Jove - Realitat Trans
DESCRIPTION:Aquest dimecres 31 de març és el dia internacional de la visibilització del col·lectiu Trans\, i per aquest motiu tenim una nova sessió de Connecta’t Jove molt especial. Claris Llaó ens parla de la “Realitat Trans”. \nDimecres 31 de març a les 19.30h \nCanal d’Instagram de Joventut
URL:https://mont-roig.cat/acte/connectat-jove-realitat-trans/
CATEGORIES:Joventut
END:VEVENT
END:VCALENDAR