BEGIN:VCALENDAR
VERSION:2.0
PRODID:-//Ajuntament de Mont-roig del Camp - ECPv5.16.3.1//NONSGML v1.0//EN
CALSCALE:GREGORIAN
METHOD:PUBLISH
X-WR-CALNAME:Ajuntament de Mont-roig del Camp
X-ORIGINAL-URL:https://mont-roig.cat
X-WR-CALDESC:Esdeveniments per Ajuntament de Mont-roig del Camp
BEGIN:VTIMEZONE
TZID:Europe/Madrid
BEGIN:DAYLIGHT
TZOFFSETFROM:+0100
TZOFFSETTO:+0200
TZNAME:CEST
DTSTART:20180325T010000
END:DAYLIGHT
BEGIN:STANDARD
TZOFFSETFROM:+0200
TZOFFSETTO:+0100
TZNAME:CET
DTSTART:20181028T010000
END:STANDARD
END:VTIMEZONE
BEGIN:VEVENT
DTSTART;TZID=Europe/Madrid:20181010T180000
DTEND;TZID=Europe/Madrid:20181010T193000
DTSTAMP:20260420T000713
CREATED:20181009T172713Z
LAST-MODIFIED:20181009T172713Z
UID:30948-1539194400-1539199800@mont-roig.cat
SUMMARY:Contes i més contes: 'El  Roc escriu una història'
DESCRIPTION:
URL:https://mont-roig.cat/acte/contes-i-mes-contes-el-roc-escriu-una-historia/
LOCATION:Biblioteca Miramar\, Carrer Soria\, 16\, Miami Platja\, Tarragona\, 43892\, Spain
CATEGORIES:Ajuntament,Biblioteca
GEO:41.0027012;0.9276747
X-APPLE-STRUCTURED-LOCATION;VALUE=URI;X-ADDRESS=Biblioteca Miramar Carrer Soria 16 Miami Platja Tarragona 43892 Spain;X-APPLE-RADIUS=500;X-TITLE=Carrer Soria\, 16:geo:0.9276747,41.0027012
END:VEVENT
END:VCALENDAR