BEGIN:VCALENDAR
VERSION:2.0
PRODID:-//Ajuntament de Mont-roig del Camp - ECPv5.16.3.1//NONSGML v1.0//EN
CALSCALE:GREGORIAN
METHOD:PUBLISH
X-WR-CALNAME:Ajuntament de Mont-roig del Camp
X-ORIGINAL-URL:https://mont-roig.cat
X-WR-CALDESC:Esdeveniments per Ajuntament de Mont-roig del Camp
BEGIN:VTIMEZONE
TZID:Europe/Madrid
BEGIN:DAYLIGHT
TZOFFSETFROM:+0100
TZOFFSETTO:+0200
TZNAME:CEST
DTSTART:20180325T010000
END:DAYLIGHT
BEGIN:STANDARD
TZOFFSETFROM:+0200
TZOFFSETTO:+0100
TZNAME:CET
DTSTART:20181028T010000
END:STANDARD
END:VTIMEZONE
BEGIN:VEVENT
DTSTART;TZID=Europe/Madrid:20180220T100000
DTEND;TZID=Europe/Madrid:20180220T120000
DTSTAMP:20260421T045811
CREATED:20180205T173701Z
LAST-MODIFIED:20180205T173701Z
UID:24616-1519120800-1519128000@mont-roig.cat
SUMMARY:Les cooperatives: una sortida laboral
DESCRIPTION:Xerrada sobre les cooperatives\, la idea de negoci i les sortides laborals que poden permetre.
URL:https://mont-roig.cat/acte/cooperatives-sortida-laboral/
LOCATION:Centre de Treball Compartit l’Espai\, Av. de Màlaga\, 32\, Miami Platja
CATEGORIES:Ajuntament,Impuls Econòmic i Ocupació
ATTACH;FMTTYPE=image/jpeg:https://mont-roig.cat/wp-content/uploads/Cartell_cooperatives-001.jpg
GEO:41.0035903;0.9290676
X-APPLE-STRUCTURED-LOCATION;VALUE=URI;X-ADDRESS=Centre de Treball Compartit l’Espai Av. de Màlaga 32 Miami Platja;X-APPLE-RADIUS=500;X-TITLE=Av. de Màlaga\, 32:geo:0.9290676,41.0035903
END:VEVENT
END:VCALENDAR