BEGIN:VCALENDAR
VERSION:2.0
PRODID:-//Ajuntament de Mont-roig del Camp - ECPv5.16.3.1//NONSGML v1.0//EN
CALSCALE:GREGORIAN
METHOD:PUBLISH
X-WR-CALNAME:Ajuntament de Mont-roig del Camp
X-ORIGINAL-URL:https://mont-roig.cat
X-WR-CALDESC:Esdeveniments per Ajuntament de Mont-roig del Camp
BEGIN:VTIMEZONE
TZID:Europe/Madrid
BEGIN:DAYLIGHT
TZOFFSETFROM:+0100
TZOFFSETTO:+0200
TZNAME:CEST
DTSTART:20190331T010000
END:DAYLIGHT
BEGIN:STANDARD
TZOFFSETFROM:+0200
TZOFFSETTO:+0100
TZNAME:CET
DTSTART:20191027T010000
END:STANDARD
END:VTIMEZONE
BEGIN:VEVENT
DTSTART;TZID=Europe/Madrid:20191002T170000
DTEND;TZID=Europe/Madrid:20191002T170000
DTSTAMP:20260422T115758
CREATED:20191001T184946Z
LAST-MODIFIED:20191001T184946Z
UID:39275-1570035600-1570035600@mont-roig.cat
SUMMARY:Cuina Zombi
DESCRIPTION:
URL:https://mont-roig.cat/acte/cuina-zombi-3/2019-10-02/
LOCATION:Casals de joves K1 i K2\, Mont-roig i Miami
CATEGORIES:Ajuntament,Joventut
ATTACH;FMTTYPE=image/png:https://mont-roig.cat/wp-content/uploads/CUINA-ZOMBIE-2019.png
GEO:41.0332086;0.9631065
X-APPLE-STRUCTURED-LOCATION;VALUE=URI;X-ADDRESS=Casals de joves K1 i K2 Mont-roig i Miami;X-APPLE-RADIUS=500;X-TITLE=Mont-roig i Miami:geo:0.9631065,41.0332086
END:VEVENT
END:VCALENDAR