BEGIN:VCALENDAR
VERSION:2.0
PRODID:-//Ajuntament de Mont-roig del Camp - ECPv5.16.3.1//NONSGML v1.0//EN
CALSCALE:GREGORIAN
METHOD:PUBLISH
X-WR-CALNAME:Ajuntament de Mont-roig del Camp
X-ORIGINAL-URL:https://mont-roig.cat
X-WR-CALDESC:Esdeveniments per Ajuntament de Mont-roig del Camp
BEGIN:VTIMEZONE
TZID:Europe/Madrid
BEGIN:DAYLIGHT
TZOFFSETFROM:+0100
TZOFFSETTO:+0200
TZNAME:CEST
DTSTART:20170326T010000
END:DAYLIGHT
BEGIN:STANDARD
TZOFFSETFROM:+0200
TZOFFSETTO:+0100
TZNAME:CET
DTSTART:20171029T010000
END:STANDARD
END:VTIMEZONE
BEGIN:VEVENT
DTSTART;TZID=Europe/Madrid:20170919T150000
DTEND;TZID=Europe/Madrid:20170919T173000
DTSTAMP:20260421T183735
CREATED:20170822T123045Z
LAST-MODIFIED:20170822T131309Z
UID:21307-1505833200-1505842200@mont-roig.cat
SUMMARY:Curs de català per a no catalanoparlants (60 hores)
DESCRIPTION:D’ata d’inici del curs gratuït de català per a persones no catalanoparlants. \nMés info: Oferta Formativa 2017  \n  \n 
URL:https://mont-roig.cat/acte/curs-catala-no-catalanoparlants-60-hores/
LOCATION:Centre Polivalent Sant Jaume\, Carrer de Sòria\, 18\, Miami Platja\, Tarragona\, 43892\, Spain
CATEGORIES:Ajuntament,Impuls Econòmic i Ocupació
END:VEVENT
END:VCALENDAR