BEGIN:VCALENDAR
VERSION:2.0
PRODID:-//Ajuntament de Mont-roig del Camp - ECPv5.16.3.1//NONSGML v1.0//EN
CALSCALE:GREGORIAN
METHOD:PUBLISH
X-WR-CALNAME:Ajuntament de Mont-roig del Camp
X-ORIGINAL-URL:https://mont-roig.cat
X-WR-CALDESC:Esdeveniments per Ajuntament de Mont-roig del Camp
BEGIN:VTIMEZONE
TZID:Europe/Madrid
BEGIN:DAYLIGHT
TZOFFSETFROM:+0100
TZOFFSETTO:+0200
TZNAME:CEST
DTSTART:20180325T010000
END:DAYLIGHT
BEGIN:STANDARD
TZOFFSETFROM:+0200
TZOFFSETTO:+0100
TZNAME:CET
DTSTART:20181028T010000
END:STANDARD
END:VTIMEZONE
BEGIN:VEVENT
DTSTART;TZID=Europe/Madrid:20180529T100000
DTEND;TZID=Europe/Madrid:20180529T120000
DTSTAMP:20260420T084101
CREATED:20180429T120009Z
LAST-MODIFIED:20180429T120009Z
UID:27301-1527588000-1527595200@mont-roig.cat
SUMMARY:Curs de mosso/a de magatzem
DESCRIPTION:Curs de mosso/a de magatzem (30 h) \nFiança 60 €
URL:https://mont-roig.cat/acte/curs-de-mosso-a-de-magatzem/2018-05-29/
LOCATION:Centre Polivalent Sant Jaume\, Carrer de Sòria\, 18\, Miami Platja\, Tarragona\, 43892\, Spain
CATEGORIES:Ajuntament,Impuls Econòmic i Ocupació
ATTACH;FMTTYPE=image/jpeg:https://mont-roig.cat/wp-content/uploads/Cartell-Curs-Mosso-magatzem.jpg
END:VEVENT
END:VCALENDAR