BEGIN:VCALENDAR
VERSION:2.0
PRODID:-//Ajuntament de Mont-roig del Camp - ECPv5.16.3.1//NONSGML v1.0//EN
CALSCALE:GREGORIAN
METHOD:PUBLISH
X-WR-CALNAME:Ajuntament de Mont-roig del Camp
X-ORIGINAL-URL:https://mont-roig.cat
X-WR-CALDESC:Esdeveniments per Ajuntament de Mont-roig del Camp
BEGIN:VTIMEZONE
TZID:Europe/Madrid
BEGIN:DAYLIGHT
TZOFFSETFROM:+0100
TZOFFSETTO:+0200
TZNAME:CEST
DTSTART:20180325T010000
END:DAYLIGHT
BEGIN:STANDARD
TZOFFSETFROM:+0200
TZOFFSETTO:+0100
TZNAME:CET
DTSTART:20181028T010000
END:STANDARD
END:VTIMEZONE
BEGIN:VEVENT
DTSTART;TZID=Europe/Madrid:20180405T093000
DTEND;TZID=Europe/Madrid:20180405T113000
DTSTAMP:20260421T061344
CREATED:20180403T053705Z
LAST-MODIFIED:20180403T053705Z
UID:26450-1522920600-1522927800@mont-roig.cat
SUMMARY:Curs d'informàtica bàsica
DESCRIPTION:
URL:https://mont-roig.cat/acte/curs-dinformatica-basica/2018-04-05/
LOCATION:Centre Polivalent Sant Jaume\, Carrer de Sòria\, 18\, Miami Platja\, Tarragona\, 43892\, Spain
CATEGORIES:Ajuntament,Impuls Econòmic i Ocupació
ATTACH;FMTTYPE=image/jpeg:https://mont-roig.cat/wp-content/uploads/Cartell-Curs-Informàtica-Bàsica-001.jpg
END:VEVENT
END:VCALENDAR