BEGIN:VCALENDAR
VERSION:2.0
PRODID:-//Ajuntament de Mont-roig del Camp - ECPv5.16.3.1//NONSGML v1.0//EN
CALSCALE:GREGORIAN
METHOD:PUBLISH
X-WR-CALNAME:Ajuntament de Mont-roig del Camp
X-ORIGINAL-URL:https://mont-roig.cat
X-WR-CALDESC:Esdeveniments per Ajuntament de Mont-roig del Camp
BEGIN:VTIMEZONE
TZID:Europe/Madrid
BEGIN:DAYLIGHT
TZOFFSETFROM:+0100
TZOFFSETTO:+0200
TZNAME:CEST
DTSTART:20170326T010000
END:DAYLIGHT
BEGIN:STANDARD
TZOFFSETFROM:+0200
TZOFFSETTO:+0100
TZNAME:CET
DTSTART:20171029T010000
END:STANDARD
END:VTIMEZONE
BEGIN:VEVENT
DTSTART;TZID=Europe/Madrid:20170117T170000
DTEND;TZID=Europe/Madrid:20170117T190000
DTSTAMP:20260421T131443
CREATED:20170103T125602Z
LAST-MODIFIED:20170104T111908Z
UID:14213-1484672400-1484679600@mont-roig.cat
SUMMARY:Curs d'orientació laboral per a joves
DESCRIPTION:Sessió inaugural sobre com buscar treball. \n  \nInscripcions fins al 10 de gener: \nSala 1 del Polivalent de Miami Platja de dilluns a divendres de 10h a 14h. \nCasal de Joves K2 de Miami Platja de dimarts a dissabtes de 16h a 20h.
URL:https://mont-roig.cat/acte/curs-dorientacio-laboral-joves/
LOCATION:Centre Polivalent Sant Jaume\, Carrer de Sòria\, 18\, Miami Platja\, Tarragona\, 43892\, Spain
CATEGORIES:Ajuntament,Joventut
ATTACH;FMTTYPE=image/jpeg:https://mont-roig.cat/wp-content/uploads/CARTELL-CURS-ORIENTACIÓ-LABORAL-PER-A-JOVES-001-e1483528735483.jpg
END:VEVENT
END:VCALENDAR