BEGIN:VCALENDAR
VERSION:2.0
PRODID:-//Ajuntament de Mont-roig del Camp - ECPv5.16.3.1//NONSGML v1.0//EN
CALSCALE:GREGORIAN
METHOD:PUBLISH
X-WR-CALNAME:Ajuntament de Mont-roig del Camp
X-ORIGINAL-URL:https://mont-roig.cat
X-WR-CALDESC:Esdeveniments per Ajuntament de Mont-roig del Camp
BEGIN:VTIMEZONE
TZID:Europe/Madrid
BEGIN:DAYLIGHT
TZOFFSETFROM:+0100
TZOFFSETTO:+0200
TZNAME:CEST
DTSTART:20190331T010000
END:DAYLIGHT
BEGIN:STANDARD
TZOFFSETFROM:+0200
TZOFFSETTO:+0100
TZNAME:CET
DTSTART:20191027T010000
END:STANDARD
END:VTIMEZONE
BEGIN:VEVENT
DTSTART;TZID=Europe/Madrid:20191229T103000
DTEND;TZID=Europe/Madrid:20191229T120000
DTSTAMP:20260423T055404
CREATED:20191122T131556Z
LAST-MODIFIED:20191223T135157Z
UID:40696-1577615400-1577620800@mont-roig.cat
SUMMARY:Cursa dels Nassos i Nassets
DESCRIPTION:Cursa popular en recorregut per circuit mixt de 5\,19 Km i 84 metres de desnivell positiu. \nCursa dels Nassos: \nLa sortida tindrà lloc a les 10:30 h. al Pavelló Poliesportiu de Mont-roig del Camp\, ubicat al C/ Aureli Maria Escarré\, 3; i en finalitzar\, tindrà lloc la Cursa dels Nassets\, una cursa infantil dedicada als esportistes més petits\, apta per a tots els infants que hi vulguin participar. El recorregut es realitzarà pels carrers del municipi. \nInscripcions a: \nhttps://www.kupeka.com/eventos/95/cursa-dels-nassos-2019\nPreu inscripcions: \n\nSoci del C.E. l’Areny: 8\,00 €\nNo socis: 10\,00 €\n\nCursa dels Nassets: \nInscripcions al mateix dia de la cursa\nPreu: 1\,00 € \nOrganitza Club Esportiu l’Areny. \n  \n 
URL:https://mont-roig.cat/acte/cursa-dels-nassos-i-nassets/
LOCATION:Poliesportiu de Mont-roig del Camp\, Carrer Aureli Maria Escarré\, 3\, Mont-roig del Camp\, Tarragona\, 43300\, Spain
CATEGORIES:Ajuntament,Esports
ATTACH;FMTTYPE=image/jpeg:https://mont-roig.cat/wp-content/uploads/cursadelsnassosinassets.jpg
GEO:41.0865513;0.9606138
X-APPLE-STRUCTURED-LOCATION;VALUE=URI;X-ADDRESS=Poliesportiu de Mont-roig del Camp Carrer Aureli Maria Escarré 3 Mont-roig del Camp Tarragona 43300 Spain;X-APPLE-RADIUS=500;X-TITLE=Carrer Aureli Maria Escarré\, 3:geo:0.9606138,41.0865513
END:VEVENT
END:VCALENDAR