BEGIN:VCALENDAR
VERSION:2.0
PRODID:-//Ajuntament de Mont-roig del Camp - ECPv5.16.3.1//NONSGML v1.0//EN
CALSCALE:GREGORIAN
METHOD:PUBLISH
X-WR-CALNAME:Ajuntament de Mont-roig del Camp
X-ORIGINAL-URL:https://mont-roig.cat
X-WR-CALDESC:Esdeveniments per Ajuntament de Mont-roig del Camp
BEGIN:VTIMEZONE
TZID:Europe/Madrid
BEGIN:DAYLIGHT
TZOFFSETFROM:+0100
TZOFFSETTO:+0200
TZNAME:CEST
DTSTART:20180325T010000
END:DAYLIGHT
BEGIN:STANDARD
TZOFFSETFROM:+0200
TZOFFSETTO:+0100
TZNAME:CET
DTSTART:20181028T010000
END:STANDARD
END:VTIMEZONE
BEGIN:VEVENT
DTSTART;TZID=Europe/Madrid:20180423T170000
DTEND;TZID=Europe/Madrid:20180423T213000
DTSTAMP:20260420T134859
CREATED:20180406T183852Z
LAST-MODIFIED:20180416T111740Z
UID:26764-1524502800-1524519000@mont-roig.cat
SUMMARY:Diada de Sant Jordi a Mont-roig
DESCRIPTION:Celebració de Sant Jordi. Amb venda de llibres i roses\, tallers\, activitats culturals\, la participació d’entitats locals i molt més!
URL:https://mont-roig.cat/acte/diada-de-sant-jordi-a-mont-roig/
LOCATION:Aparcament Casa de Cultura
CATEGORIES:Ajuntament,Cultura
ATTACH;FMTTYPE=image/jpeg:https://mont-roig.cat/wp-content/uploads/Cartell_A3_StJordi2018_ok-001.jpg
END:VEVENT
END:VCALENDAR