BEGIN:VCALENDAR
VERSION:2.0
PRODID:-//Ajuntament de Mont-roig del Camp - ECPv5.16.3.1//NONSGML v1.0//EN
CALSCALE:GREGORIAN
METHOD:PUBLISH
X-WR-CALNAME:Ajuntament de Mont-roig del Camp
X-ORIGINAL-URL:https://mont-roig.cat
X-WR-CALDESC:Esdeveniments per Ajuntament de Mont-roig del Camp
BEGIN:VTIMEZONE
TZID:Europe/Madrid
BEGIN:DAYLIGHT
TZOFFSETFROM:+0100
TZOFFSETTO:+0200
TZNAME:CEST
DTSTART:20180325T010000
END:DAYLIGHT
BEGIN:STANDARD
TZOFFSETFROM:+0200
TZOFFSETTO:+0100
TZNAME:CET
DTSTART:20181028T010000
END:STANDARD
END:VTIMEZONE
BEGIN:VEVENT
DTSTART;TZID=Europe/Madrid:20180306T160000
DTEND;TZID=Europe/Madrid:20180306T170000
DTSTAMP:20260420T162941
CREATED:20180228T113836Z
LAST-MODIFIED:20180228T114629Z
UID:25543-1520352000-1520355600@mont-roig.cat
SUMMARY:Dinàmiques i activitats al voltant de la igualtat de gènere
DESCRIPTION:Dinàmiques i activitats al voltant de la igualtat de gènere als Casals k1 i k2.
URL:https://mont-roig.cat/acte/dinamiques-activitats-voltant-igualtat-genere/
LOCATION:Casals de joves K1 i K2\, Mont-roig i Miami
CATEGORIES:Ajuntament,Cultura,Joventut
ATTACH;FMTTYPE=image/jpeg:https://mont-roig.cat/wp-content/uploads/AJMM_A5_dona18.jpg
GEO:41.0332086;0.9631065
X-APPLE-STRUCTURED-LOCATION;VALUE=URI;X-ADDRESS=Casals de joves K1 i K2 Mont-roig i Miami;X-APPLE-RADIUS=500;X-TITLE=Mont-roig i Miami:geo:0.9631065,41.0332086
END:VEVENT
END:VCALENDAR