BEGIN:VCALENDAR
VERSION:2.0
PRODID:-//Ajuntament de Mont-roig del Camp - ECPv5.16.3.1//NONSGML v1.0//EN
CALSCALE:GREGORIAN
METHOD:PUBLISH
X-WR-CALNAME:Ajuntament de Mont-roig del Camp
X-ORIGINAL-URL:https://mont-roig.cat
X-WR-CALDESC:Esdeveniments per Ajuntament de Mont-roig del Camp
BEGIN:VTIMEZONE
TZID:Europe/Madrid
BEGIN:DAYLIGHT
TZOFFSETFROM:+0100
TZOFFSETTO:+0200
TZNAME:CEST
DTSTART:20210328T010000
END:DAYLIGHT
BEGIN:STANDARD
TZOFFSETFROM:+0200
TZOFFSETTO:+0100
TZNAME:CET
DTSTART:20211031T010000
END:STANDARD
END:VTIMEZONE
BEGIN:VEVENT
DTSTART;VALUE=DATE:20210421
DTEND;VALUE=DATE:20210422
DTSTAMP:20260421T160424
CREATED:20210412T103625Z
LAST-MODIFIED:20210412T103625Z
UID:54811-1618963200-1619049599@mont-roig.cat
SUMMARY:El Gat sol
DESCRIPTION:El Pla de Barris La Florida de Miami Platja ha posat en marxa el cicle de contes per a la gent gran “Kamishibai\, contes\, saviesa i tradició”. \n\nAquest dimecres Part II: El gat sol\nCanal YouTube de l’Ajuntament\nFacebook de les Biblioteques municipals
URL:https://mont-roig.cat/acte/el-gat-sol/
CATEGORIES:Cultura,Pla de Barris
END:VEVENT
END:VCALENDAR