BEGIN:VCALENDAR
VERSION:2.0
PRODID:-//Ajuntament de Mont-roig del Camp - ECPv5.16.3.1//NONSGML v1.0//EN
CALSCALE:GREGORIAN
METHOD:PUBLISH
X-WR-CALNAME:Ajuntament de Mont-roig del Camp
X-ORIGINAL-URL:https://mont-roig.cat
X-WR-CALDESC:Esdeveniments per Ajuntament de Mont-roig del Camp
BEGIN:VTIMEZONE
TZID:Europe/Madrid
BEGIN:DAYLIGHT
TZOFFSETFROM:+0100
TZOFFSETTO:+0200
TZNAME:CEST
DTSTART:20260329T010000
END:DAYLIGHT
BEGIN:STANDARD
TZOFFSETFROM:+0200
TZOFFSETTO:+0100
TZNAME:CET
DTSTART:20261025T010000
END:STANDARD
END:VTIMEZONE
BEGIN:VEVENT
DTSTART;TZID=Europe/Madrid:20260213T090000
DTEND;TZID=Europe/Madrid:20260213T130000
DTSTAMP:20260421T013647
CREATED:20260203T170009Z
LAST-MODIFIED:20260203T171446Z
UID:88568-1770973200-1770987600@mont-roig.cat
SUMMARY:'El món a Rac1' en directe a Miami Platja
DESCRIPTION:
URL:https://mont-roig.cat/acte/el-mon-a-rac1-en-directe-a-miami-platja/
LOCATION:Centre Polivalent Sant Jaume\, Carrer de Sòria\, 18\, Miami Platja\, Tarragona\, 43892\, Spain
CATEGORIES:Ajuntament,Alcalde
ATTACH;FMTTYPE=image/jpeg:https://mont-roig.cat/wp-content/uploads/698058cbef401.jpeg
END:VEVENT
END:VCALENDAR