BEGIN:VCALENDAR
VERSION:2.0
PRODID:-//Ajuntament de Mont-roig del Camp - ECPv5.16.3.1//NONSGML v1.0//EN
CALSCALE:GREGORIAN
METHOD:PUBLISH
X-WR-CALNAME:Ajuntament de Mont-roig del Camp
X-ORIGINAL-URL:https://mont-roig.cat
X-WR-CALDESC:Esdeveniments per Ajuntament de Mont-roig del Camp
BEGIN:VTIMEZONE
TZID:Europe/Madrid
BEGIN:DAYLIGHT
TZOFFSETFROM:+0100
TZOFFSETTO:+0200
TZNAME:CEST
DTSTART:20180325T010000
END:DAYLIGHT
BEGIN:STANDARD
TZOFFSETFROM:+0200
TZOFFSETTO:+0100
TZNAME:CET
DTSTART:20181028T010000
END:STANDARD
END:VTIMEZONE
BEGIN:VEVENT
DTSTART;TZID=Europe/Madrid:20180330T103000
DTEND;TZID=Europe/Madrid:20180330T130000
DTSTAMP:20260422T183457
CREATED:20180302T190202Z
LAST-MODIFIED:20180302T190225Z
UID:25889-1522405800-1522414800@mont-roig.cat
SUMMARY:Escape Room – Operació Joan Miró
DESCRIPTION:Preparats per viure una experiència única i pionera a Catalunya? Arriba a Mont-roig Miami el primer Escape Room Outdoor\, a l’aire lliure i en plena natura. Una activitat que combina la intriga de resoldre enigmes en diverses ubicacions del patrimoni natural i cultural de Mont-roig amb la vinculació i obra del genial artista. Atreviu-vos a resoldre l’operació Joan Miró mentre descobriu el territori! \nPortar calçat adequat i aigua. Edat mínima recomanable 8 anys. \nPlaces limitades \nPreu: 5€ /persona \nInformació i venda de tiquets: Oficina de Turisme de la Pl. Tarragona. turisme@mont-roig.com. \n977 810 978
URL:https://mont-roig.cat/acte/escape-room-operacio-joan-miro/
LOCATION:Parc de l’Era
END:VEVENT
END:VCALENDAR