BEGIN:VCALENDAR
VERSION:2.0
PRODID:-//Ajuntament de Mont-roig del Camp - ECPv5.16.3.1//NONSGML v1.0//EN
CALSCALE:GREGORIAN
METHOD:PUBLISH
X-WR-CALNAME:Ajuntament de Mont-roig del Camp
X-ORIGINAL-URL:https://mont-roig.cat
X-WR-CALDESC:Esdeveniments per Ajuntament de Mont-roig del Camp
BEGIN:VTIMEZONE
TZID:Europe/Madrid
BEGIN:DAYLIGHT
TZOFFSETFROM:+0100
TZOFFSETTO:+0200
TZNAME:CEST
DTSTART:20260329T010000
END:DAYLIGHT
BEGIN:STANDARD
TZOFFSETFROM:+0200
TZOFFSETTO:+0100
TZNAME:CET
DTSTART:20261025T010000
END:STANDARD
END:VTIMEZONE
BEGIN:VEVENT
DTSTART;TZID=Europe/Madrid:20260225T093000
DTEND;TZID=Europe/Madrid:20260225T130000
DTSTAMP:20260423T115040
CREATED:20260212T090038Z
LAST-MODIFIED:20260212T090747Z
UID:88909-1772011800-1772024400@mont-roig.cat
SUMMARY:Espai Entrevistes
DESCRIPTION:Miami Platja \nEn aquesta edició hi ha 18 empreses del municipi i de la zona que ofereixen 161 llocs de treball. \nLa data límit per enviar el currículum a les empreses és el dia 23 de febrer.  Per a qualsevol dubte es pot contactar al telèfon 977 172527 o al correu electrònic promocio@mont-roig.cat.
URL:https://mont-roig.cat/acte/espai-entrevistes-2/
LOCATION:Ecoespai\, Plaça Girona\, Miami Platja\, Tarragona\, 43892\, Spain
CATEGORIES:Ajuntament,Impuls Econòmic i Ocupació
ATTACH;FMTTYPE=image/jpeg:https://mont-roig.cat/wp-content/uploads/Espai-Entrevistes-2.jpg
END:VEVENT
END:VCALENDAR