BEGIN:VCALENDAR
VERSION:2.0
PRODID:-//Ajuntament de Mont-roig del Camp - ECPv5.16.3.1//NONSGML v1.0//EN
CALSCALE:GREGORIAN
METHOD:PUBLISH
X-WR-CALNAME:Ajuntament de Mont-roig del Camp
X-ORIGINAL-URL:https://mont-roig.cat
X-WR-CALDESC:Esdeveniments per Ajuntament de Mont-roig del Camp
BEGIN:VTIMEZONE
TZID:Europe/Madrid
BEGIN:DAYLIGHT
TZOFFSETFROM:+0100
TZOFFSETTO:+0200
TZNAME:CEST
DTSTART:20200329T010000
END:DAYLIGHT
BEGIN:STANDARD
TZOFFSETFROM:+0200
TZOFFSETTO:+0100
TZNAME:CET
DTSTART:20201025T010000
END:STANDARD
END:VTIMEZONE
BEGIN:VEVENT
DTSTART;TZID=Europe/Madrid:20200104T180000
DTEND;TZID=Europe/Madrid:20200104T190000
DTSTAMP:20260421T180723
CREATED:20191126T092427Z
LAST-MODIFIED:20191126T092427Z
UID:40806-1578160800-1578164400@mont-roig.cat
SUMMARY:Espectacle "Sueño de hilos"
DESCRIPTION:A càrrec de la Cia. Saga. \nExplica la història d’una titella humana que agafa vida a través dels fils. Amb molta suavitat i precisió de la seva manipuladora la mou amb delicadesa transportant a l’espectador a un món màgic i misteriós. Basat en un treball de cos i moviment\, les xanques i el teatre físic s’integren com a llenguatge escènic dins de l’espectacle. \n 
URL:https://mont-roig.cat/acte/espectacle-sueno-de-hilos/
LOCATION:Parc de les Oliveres
CATEGORIES:Ajuntament,Festes
ATTACH;FMTTYPE=image/jpeg:https://mont-roig.cat/wp-content/uploads/PROGRAMA_NADAL_MIAMI_19_rev03_page-0001.jpg
END:VEVENT
END:VCALENDAR