BEGIN:VCALENDAR
VERSION:2.0
PRODID:-//Ajuntament de Mont-roig del Camp - ECPv5.16.3.1//NONSGML v1.0//EN
CALSCALE:GREGORIAN
METHOD:PUBLISH
X-WR-CALNAME:Ajuntament de Mont-roig del Camp
X-ORIGINAL-URL:https://mont-roig.cat
X-WR-CALDESC:Esdeveniments per Ajuntament de Mont-roig del Camp
BEGIN:VTIMEZONE
TZID:Europe/Madrid
BEGIN:DAYLIGHT
TZOFFSETFROM:+0100
TZOFFSETTO:+0200
TZNAME:CEST
DTSTART:20260329T010000
END:DAYLIGHT
BEGIN:STANDARD
TZOFFSETFROM:+0200
TZOFFSETTO:+0100
TZNAME:CET
DTSTART:20261025T010000
END:STANDARD
END:VTIMEZONE
BEGIN:VEVENT
DTSTART;TZID=Europe/Madrid:20260625T190000
DTEND;TZID=Europe/Madrid:20260625T190000
DTSTAMP:20260420T061601
CREATED:20260226T113543Z
LAST-MODIFIED:20260226T113543Z
UID:89305-1782414000-1782414000@mont-roig.cat
SUMMARY:Exposició: Guixos de Joan Miró
DESCRIPTION:Mont-roig del Camp \n\nDel 25 de juny al 16 d’agost exposició dels guixos de Joan Miró\, organitzada per la Fundació Mas Miró. \nEs tracta d’una mostra molt ben acollida en la seva edició del 2022\, que presenta peces originals modelades per l’artista com a pas previ a les seves escultures en bronze.
URL:https://mont-roig.cat/acte/exposicio-guixos-de-joan-miro/
LOCATION:Centre Cultural Església Vella\, Carrer Major\, 2\, Mont-roig del Camp\, Tarragona\, 43300\, Spain
CATEGORIES:Ajuntament,Cultura
ATTACH;FMTTYPE=image/jpeg:https://mont-roig.cat/wp-content/uploads/JOAN-MIRO-BANNER.jpg
GEO:41.0877788;0.958854
X-APPLE-STRUCTURED-LOCATION;VALUE=URI;X-ADDRESS=Centre Cultural Església Vella Carrer Major 2 Mont-roig del Camp Tarragona 43300 Spain;X-APPLE-RADIUS=500;X-TITLE=Carrer Major\, 2:geo:0.958854,41.0877788
END:VEVENT
END:VCALENDAR