BEGIN:VCALENDAR
VERSION:2.0
PRODID:-//Ajuntament de Mont-roig del Camp - ECPv5.16.3.1//NONSGML v1.0//EN
CALSCALE:GREGORIAN
METHOD:PUBLISH
X-WR-CALNAME:Ajuntament de Mont-roig del Camp
X-ORIGINAL-URL:https://mont-roig.cat
X-WR-CALDESC:Esdeveniments per Ajuntament de Mont-roig del Camp
BEGIN:VTIMEZONE
TZID:Europe/Madrid
BEGIN:DAYLIGHT
TZOFFSETFROM:+0100
TZOFFSETTO:+0200
TZNAME:CEST
DTSTART:20190331T010000
END:DAYLIGHT
BEGIN:STANDARD
TZOFFSETFROM:+0200
TZOFFSETTO:+0100
TZNAME:CET
DTSTART:20191027T010000
END:STANDARD
END:VTIMEZONE
BEGIN:VEVENT
DTSTART;VALUE=DATE:20190622
DTEND;VALUE=DATE:20190623
DTSTAMP:20260421T172424
CREATED:20190531T105728Z
LAST-MODIFIED:20190531T105728Z
UID:36720-1561161600-1561247999@mont-roig.cat
SUMMARY:Festa 10è aniversari Casal de Joves K2
DESCRIPTION:El 12 de febrer de 2009 el Casal de Joves K2 va obrir per primera vegada les seves portes i per aquest motiu celebrem aquest any el 10è aniversari amb un dia ple d’activitats on hi haurà festa holi\, exhibició de skaters\, música\, festa de l’escuma\, espectacles\, vermut electrònic i moltes sorpreses més! No t’ho perdis!!
URL:https://mont-roig.cat/acte/festa-10e-aniversari-casal-de-joves-k2/
LOCATION:Pèrgola Platja Cristall\, Platja Cristall\, Miami Platja \, 43892
CATEGORIES:Ajuntament,Joventut
ATTACH;FMTTYPE=image/png:https://mont-roig.cat/wp-content/uploads/K2-10-anys.png
GEO:40.998277;0.9350433
X-APPLE-STRUCTURED-LOCATION;VALUE=URI;X-ADDRESS=Pèrgola Platja Cristall Platja Cristall Miami Platja  43892;X-APPLE-RADIUS=500;X-TITLE=Platja Cristall:geo:0.9350433,40.998277
END:VEVENT
END:VCALENDAR