BEGIN:VCALENDAR
VERSION:2.0
PRODID:-//Ajuntament de Mont-roig del Camp - ECPv5.16.3.1//NONSGML v1.0//EN
CALSCALE:GREGORIAN
METHOD:PUBLISH
X-WR-CALNAME:Ajuntament de Mont-roig del Camp
X-ORIGINAL-URL:https://mont-roig.cat
X-WR-CALDESC:Esdeveniments per Ajuntament de Mont-roig del Camp
BEGIN:VTIMEZONE
TZID:Europe/Madrid
BEGIN:DAYLIGHT
TZOFFSETFROM:+0100
TZOFFSETTO:+0200
TZNAME:CEST
DTSTART:20190331T010000
END:DAYLIGHT
BEGIN:STANDARD
TZOFFSETFROM:+0200
TZOFFSETTO:+0100
TZNAME:CET
DTSTART:20191027T010000
END:STANDARD
END:VTIMEZONE
BEGIN:VEVENT
DTSTART;VALUE=DATE:20190315
DTEND;VALUE=DATE:20190320
DTSTAMP:20260422T043737
CREATED:20190314T082554Z
LAST-MODIFIED:20190314T083252Z
UID:35023-1552608000-1553039999@mont-roig.cat
SUMMARY:Festa Major de Sant Josep de Miami Platja
DESCRIPTION:Del 15 al 19 de març tindrà lloc una nova edició de les Festes de Sant Josep de Miami Platja amb tot un seguit de novetats que podreu descobrir al programa. \n  \nDescarrega’t el programa de festes
URL:https://mont-roig.cat/acte/festa-major-de-sant-josep-de-miami-platja/
LOCATION:Miami Platja
CATEGORIES:Ajuntament,Festes
ATTACH;FMTTYPE=image/jpeg:https://mont-roig.cat/wp-content/uploads/Sant-Josep-2019.jpg
END:VEVENT
END:VCALENDAR