BEGIN:VCALENDAR
VERSION:2.0
PRODID:-//Ajuntament de Mont-roig del Camp - ECPv5.16.3.1//NONSGML v1.0//EN
CALSCALE:GREGORIAN
METHOD:PUBLISH
X-WR-CALNAME:Ajuntament de Mont-roig del Camp
X-ORIGINAL-URL:https://mont-roig.cat
X-WR-CALDESC:Esdeveniments per Ajuntament de Mont-roig del Camp
BEGIN:VTIMEZONE
TZID:Europe/Madrid
BEGIN:DAYLIGHT
TZOFFSETFROM:+0100
TZOFFSETTO:+0200
TZNAME:CEST
DTSTART:20180325T010000
END:DAYLIGHT
BEGIN:STANDARD
TZOFFSETFROM:+0200
TZOFFSETTO:+0100
TZNAME:CET
DTSTART:20181028T010000
END:STANDARD
END:VTIMEZONE
BEGIN:VEVENT
DTSTART;TZID=Europe/Madrid:20180318T120000
DTEND;TZID=Europe/Madrid:20180318T200000
DTSTAMP:20260422T040334
CREATED:20180302T181508Z
LAST-MODIFIED:20180302T181508Z
UID:25861-1521374400-1521403200@mont-roig.cat
SUMMARY:Festa multicultural
DESCRIPTION:Mostra gastronòmica amb degustacions\, balls i actuacions musicals de dansa del \nventre\, flamenc\, afro\, música tradicional romana i les exhibicions de les entitats locals \nAmics del Country\, Batucada “Miami Sona”\, Associació de Balls Dance i Country Montroig \nMiami \, Nuevos Aires de Miami\, Yeguada Hermanos Nieto i Associació Gaiteros de \nMiami Platja.
URL:https://mont-roig.cat/acte/festa-multicultural/
LOCATION:Plaça Centre Polivalent\, Carrer de Sòria\, 18\, Miami Platja \, 43892
CATEGORIES:Ajuntament,Festes
GEO:41.0027012;0.9276747
X-APPLE-STRUCTURED-LOCATION;VALUE=URI;X-ADDRESS=Plaça Centre Polivalent Carrer de Sòria 18 Miami Platja  43892;X-APPLE-RADIUS=500;X-TITLE=Carrer de Sòria\, 18:geo:0.9276747,41.0027012
END:VEVENT
END:VCALENDAR